BEGIN:VCALENDAR
VERSION:2.0
PRODID:VSD-Portal-www.volley.de
METHOD:PUBLISH
BEGIN:VEVENT
UID:315165-0b1cb5f82de24c98f11e829bddb1f0f9
X-WR-RELCALID:315165-0b1cb5f82de24c98f11e829bddb1f0f9
ORGANIZER:Volleyball
SEQUENCE:261141502
LOCATION:Tannen-Turnhalle (Neubau), Otto-Seeling-Promenade 40, 90762 F
 ürth
GEO:49.47162546421413500000;11.00132619245149700000
SUMMARY:Rel BZL Mä.: TV Erlangen - TUS Feuchtwangen
CLASS:PUBLIC
DTSTART:20230423T120000Z
DTSTAMP:20230425T121700Z
END:VEVENT
BEGIN:VEVENT
UID:315166-0b1cb5f82de24c98f11e829bddb1f0f9
X-WR-RELCALID:315166-0b1cb5f82de24c98f11e829bddb1f0f9
ORGANIZER:Volleyball
SEQUENCE:261141502
LOCATION:Tannen-Turnhalle (Neubau), Otto-Seeling-Promenade 40, 90762 F
 ürth
GEO:49.47162546421413500000;11.00132619245149700000
SUMMARY:Rel BZL Mä.: TV Erlangen - SpVgg Greuther Fürth
CLASS:PUBLIC
DTSTART:20230423T120000Z
DTSTAMP:20230425T121700Z
END:VEVENT
END:VCALENDAR