BEGIN:VCALENDAR
VERSION:2.0
PRODID:VSD-Portal-www.volley.de
METHOD:PUBLISH
BEGIN:VEVENT
UID:308749-0b1cb5f82de24c98f11e829bddb1f0f9
X-WR-RELCALID:308749-0b1cb5f82de24c98f11e829bddb1f0f9
ORGANIZER:Volleyball
SEQUENCE:261131242
LOCATION:Dreifachturnhalle im Schulzentrum, Sporthallenweg, 91438 Bad 
 Windsheim
GEO:49.50615784291917000000;10.42331996826169400000
SUMMARY:U13 BZL w: TV Bad Windsheim - ASV Veitsbronn
CLASS:PUBLIC
DTSTART;VALUE=DATE:20230115
DTSTAMP:20230119T092900Z
DTEND;VALUE=DATE:20230116
END:VEVENT
BEGIN:VEVENT
UID:308750-0b1cb5f82de24c98f11e829bddb1f0f9
X-WR-RELCALID:308750-0b1cb5f82de24c98f11e829bddb1f0f9
ORGANIZER:Volleyball
SEQUENCE:261131242
LOCATION:Dreifachturnhalle im Schulzentrum, Sporthallenweg, 91438 Bad 
 Windsheim
GEO:49.50615784291917000000;10.42331996826169400000
SUMMARY:U13 BZL w: TV Bad Windsheim - SV Schwaig
CLASS:PUBLIC
DTSTART;VALUE=DATE:20230115
DTSTAMP:20230119T093000Z
DTEND;VALUE=DATE:20230116
END:VEVENT
END:VCALENDAR