BEGIN:VCALENDAR
VERSION:2.0
PRODID:VSD-Portal-www.volley.de
METHOD:PUBLISH
BEGIN:VEVENT
UID:92009-0b1cb5f82de24c98f11e829bddb1f0f9
X-WR-RELCALID:92009-0b1cb5f82de24c98f11e829bddb1f0f9
ORGANIZER:Volleyball
SEQUENCE:261131424
SUMMARY:BKl West Mä.: BSC Team Work Ebersdorf II - VG Forchheim II
CLASS:PUBLIC
DTSTART:20111008T120000Z
DTSTAMP:20140607T192100Z
END:VEVENT
BEGIN:VEVENT
UID:91934-0b1cb5f82de24c98f11e829bddb1f0f9
X-WR-RELCALID:91934-0b1cb5f82de24c98f11e829bddb1f0f9
ORGANIZER:Volleyball
SEQUENCE:261131424
SUMMARY:BKl West Mä.: VfB Einberg - VG Forchheim II
CLASS:PUBLIC
DTSTART:20111008T120000Z
DTSTAMP:20140607T192100Z
END:VEVENT
BEGIN:VEVENT
UID:91930-0b1cb5f82de24c98f11e829bddb1f0f9
X-WR-RELCALID:91930-0b1cb5f82de24c98f11e829bddb1f0f9
ORGANIZER:Volleyball
SEQUENCE:261131424
SUMMARY:BKl West Mä.: SC Memmelsdorf III - VG Forchheim II
CLASS:PUBLIC
DTSTART:20111022T120000Z
DTSTAMP:20140607T192100Z
END:VEVENT
BEGIN:VEVENT
UID:91931-0b1cb5f82de24c98f11e829bddb1f0f9
X-WR-RELCALID:91931-0b1cb5f82de24c98f11e829bddb1f0f9
ORGANIZER:Volleyball
SEQUENCE:261131424
SUMMARY:BKl West Mä.: Seßlacher SV - VG Forchheim II
CLASS:PUBLIC
DTSTART:20111022T120000Z
DTSTAMP:20140607T192100Z
END:VEVENT
BEGIN:VEVENT
UID:91949-0b1cb5f82de24c98f11e829bddb1f0f9
X-WR-RELCALID:91949-0b1cb5f82de24c98f11e829bddb1f0f9
ORGANIZER:Volleyball
SEQUENCE:261131424
SUMMARY:BKl West Mä.: VG Forchheim II - SG Rödental I
CLASS:PUBLIC
DTSTART:20111112T130000Z
DTSTAMP:20140607T192100Z
END:VEVENT
BEGIN:VEVENT
UID:91948-0b1cb5f82de24c98f11e829bddb1f0f9
X-WR-RELCALID:91948-0b1cb5f82de24c98f11e829bddb1f0f9
ORGANIZER:Volleyball
SEQUENCE:261131424
SUMMARY:BKl West Mä.: VG Forchheim II - BSC Team Work Ebersdorf I
CLASS:PUBLIC
DTSTART:20111112T130000Z
DTSTAMP:20140607T192100Z
END:VEVENT
BEGIN:VEVENT
UID:92007-0b1cb5f82de24c98f11e829bddb1f0f9
X-WR-RELCALID:92007-0b1cb5f82de24c98f11e829bddb1f0f9
ORGANIZER:Volleyball
SEQUENCE:261131424
SUMMARY:BKl West Mä.: VSG Coburg/Grub III - VG Forchheim II
CLASS:PUBLIC
DTSTART:20111119T130000Z
DTSTAMP:20140607T192100Z
END:VEVENT
BEGIN:VEVENT
UID:91918-0b1cb5f82de24c98f11e829bddb1f0f9
X-WR-RELCALID:91918-0b1cb5f82de24c98f11e829bddb1f0f9
ORGANIZER:Volleyball
SEQUENCE:261131424
SUMMARY:BKl West Mä.: VG Forchheim II - VC Hirschaid
CLASS:PUBLIC
DTSTART:20111119T130000Z
DTSTAMP:20140607T192100Z
END:VEVENT
BEGIN:VEVENT
UID:92004-0b1cb5f82de24c98f11e829bddb1f0f9
X-WR-RELCALID:92004-0b1cb5f82de24c98f11e829bddb1f0f9
ORGANIZER:Volleyball
SEQUENCE:261131424
SUMMARY:BKl West Mä.: SG Rödental II - VG Forchheim II
CLASS:PUBLIC
DTSTART:20120114T130000Z
DTSTAMP:20140607T192100Z
END:VEVENT
BEGIN:VEVENT
UID:91952-0b1cb5f82de24c98f11e829bddb1f0f9
X-WR-RELCALID:91952-0b1cb5f82de24c98f11e829bddb1f0f9
ORGANIZER:Volleyball
SEQUENCE:261131424
SUMMARY:BKl West Mä.: VG Forchheim II - SpVgg Rattelsdorf
CLASS:PUBLIC
DTSTART:20120114T130000Z
DTSTAMP:20140607T192100Z
END:VEVENT
BEGIN:VEVENT
UID:91916-0b1cb5f82de24c98f11e829bddb1f0f9
X-WR-RELCALID:91916-0b1cb5f82de24c98f11e829bddb1f0f9
ORGANIZER:Volleyball
SEQUENCE:261131424
SUMMARY:BKl West Mä.: VG Forchheim II - VSG Coburg/Grub III
CLASS:PUBLIC
DTSTART:20120121T130000Z
DTSTAMP:20140607T192100Z
END:VEVENT
BEGIN:VEVENT
UID:91917-0b1cb5f82de24c98f11e829bddb1f0f9
X-WR-RELCALID:91917-0b1cb5f82de24c98f11e829bddb1f0f9
ORGANIZER:Volleyball
SEQUENCE:261131424
SUMMARY:BKl West Mä.: VG Forchheim II - SpVgg Rattelsdorf
CLASS:PUBLIC
DTSTART:20120121T130000Z
DTSTAMP:20140607T192100Z
END:VEVENT
BEGIN:VEVENT
UID:91960-0b1cb5f82de24c98f11e829bddb1f0f9
X-WR-RELCALID:91960-0b1cb5f82de24c98f11e829bddb1f0f9
ORGANIZER:Volleyball
SEQUENCE:261131424
SUMMARY:BKl West Mä.: VfB Einberg - VG Forchheim II
CLASS:PUBLIC
DTSTART:20120128T130000Z
DTSTAMP:20140607T192100Z
END:VEVENT
BEGIN:VEVENT
UID:91961-0b1cb5f82de24c98f11e829bddb1f0f9
X-WR-RELCALID:91961-0b1cb5f82de24c98f11e829bddb1f0f9
ORGANIZER:Volleyball
SEQUENCE:261131424
SUMMARY:BKl West Mä.: SG Rödental I - VG Forchheim II
CLASS:PUBLIC
DTSTART:20120128T130000Z
DTSTAMP:20140607T192100Z
END:VEVENT
BEGIN:VEVENT
UID:91965-0b1cb5f82de24c98f11e829bddb1f0f9
X-WR-RELCALID:91965-0b1cb5f82de24c98f11e829bddb1f0f9
ORGANIZER:Volleyball
SEQUENCE:261131424
SUMMARY:BKl West Mä.: VG Forchheim II - Seßlacher SV
CLASS:PUBLIC
DTSTART:20120211T130000Z
DTSTAMP:20140607T192100Z
END:VEVENT
BEGIN:VEVENT
UID:91966-0b1cb5f82de24c98f11e829bddb1f0f9
X-WR-RELCALID:91966-0b1cb5f82de24c98f11e829bddb1f0f9
ORGANIZER:Volleyball
SEQUENCE:261131424
SUMMARY:BKl West Mä.: VG Forchheim II - BSC Team Work Ebersdorf II
CLASS:PUBLIC
DTSTART:20120211T130000Z
DTSTAMP:20140607T192100Z
END:VEVENT
BEGIN:VEVENT
UID:91981-0b1cb5f82de24c98f11e829bddb1f0f9
X-WR-RELCALID:91981-0b1cb5f82de24c98f11e829bddb1f0f9
ORGANIZER:Volleyball
SEQUENCE:261131424
SUMMARY:BKl West Mä.: VG Forchheim II - SC Memmelsdorf III
CLASS:PUBLIC
DTSTART:20120310T130000Z
DTSTAMP:20140607T192100Z
END:VEVENT
BEGIN:VEVENT
UID:91982-0b1cb5f82de24c98f11e829bddb1f0f9
X-WR-RELCALID:91982-0b1cb5f82de24c98f11e829bddb1f0f9
ORGANIZER:Volleyball
SEQUENCE:261131424
SUMMARY:BKl West Mä.: VG Forchheim II - SG Rödental II
CLASS:PUBLIC
DTSTART:20120310T130000Z
DTSTAMP:20140607T192100Z
END:VEVENT
BEGIN:VEVENT
UID:91993-0b1cb5f82de24c98f11e829bddb1f0f9
X-WR-RELCALID:91993-0b1cb5f82de24c98f11e829bddb1f0f9
ORGANIZER:Volleyball
SEQUENCE:261131424
SUMMARY:BKl West Mä.: VC Hirschaid - VG Forchheim II
CLASS:PUBLIC
DTSTART:20120324T130000Z
DTSTAMP:20140607T192100Z
END:VEVENT
BEGIN:VEVENT
UID:91906-0b1cb5f82de24c98f11e829bddb1f0f9
X-WR-RELCALID:91906-0b1cb5f82de24c98f11e829bddb1f0f9
ORGANIZER:Volleyball
SEQUENCE:261131424
SUMMARY:BKl West Mä.: VG Forchheim II - BSC Team Work Ebersdorf I
CLASS:PUBLIC
DTSTART:20120324T130000Z
DTSTAMP:20140607T192100Z
END:VEVENT
END:VCALENDAR