BEGIN:VCALENDAR
VERSION:2.0
PRODID:VSD-Portal-www.volley.de
METHOD:PUBLISH
BEGIN:VEVENT
UID:22688-2da69939ed67427dc6bf3daba21059e9
X-WR-RELCALID:22688-2da69939ed67427dc6bf3daba21059e9
ORGANIZER:Volleyball
SEQUENCE:261152345
SUMMARY:RLO Fr.: SSV Fortschritt Lichtenstein - TSV Leipzig 76
CLASS:PUBLIC
DTSTART:20130921T170000Z
DTSTAMP:20140325T194000Z
END:VEVENT
BEGIN:VEVENT
UID:22696-2da69939ed67427dc6bf3daba21059e9
X-WR-RELCALID:22696-2da69939ed67427dc6bf3daba21059e9
ORGANIZER:Volleyball
SEQUENCE:261152345
SUMMARY:RLO Fr.: SSV Fortschritt Lichtenstein - VV 70 Meiningen
CLASS:PUBLIC
DTSTART:20131019T170000Z
DTSTAMP:20140325T194000Z
END:VEVENT
BEGIN:VEVENT
UID:22704-2da69939ed67427dc6bf3daba21059e9
X-WR-RELCALID:22704-2da69939ed67427dc6bf3daba21059e9
ORGANIZER:Volleyball
SEQUENCE:261152345
SUMMARY:RLO Fr.: SSV Fortschritt Lichtenstein - Dresdner SSV II 
CLASS:PUBLIC
DTSTART:20131109T180000Z
DTSTAMP:20140325T194000Z
END:VEVENT
BEGIN:VEVENT
UID:22728-2da69939ed67427dc6bf3daba21059e9
X-WR-RELCALID:22728-2da69939ed67427dc6bf3daba21059e9
ORGANIZER:Volleyball
SEQUENCE:261152345
SUMMARY:RLO Fr.: SSV Fortschritt Lichtenstein - HSV Weimar
CLASS:PUBLIC
DTSTART:20140111T180000Z
DTSTAMP:20140325T194000Z
END:VEVENT
BEGIN:VEVENT
UID:22735-2da69939ed67427dc6bf3daba21059e9
X-WR-RELCALID:22735-2da69939ed67427dc6bf3daba21059e9
ORGANIZER:Volleyball
SEQUENCE:261152345
SUMMARY:RLO Fr.: SSV Fortschritt Lichtenstein - L.E. Volleys
CLASS:PUBLIC
DTSTART:20140125T180000Z
DTSTAMP:20140325T194000Z
END:VEVENT
BEGIN:VEVENT
UID:22745-2da69939ed67427dc6bf3daba21059e9
X-WR-RELCALID:22745-2da69939ed67427dc6bf3daba21059e9
ORGANIZER:Volleyball
SEQUENCE:261152345
SUMMARY:RLO Fr.: SSV Fortschritt Lichtenstein - Dresdner SC 1898 II 
CLASS:PUBLIC
DTSTART:20140208T180000Z
DTSTAMP:20140325T194000Z
END:VEVENT
BEGIN:VEVENT
UID:22747-2da69939ed67427dc6bf3daba21059e9
X-WR-RELCALID:22747-2da69939ed67427dc6bf3daba21059e9
ORGANIZER:Volleyball
SEQUENCE:261152345
SUMMARY:RLO Fr.: SSV Fortschritt Lichtenstein - Chemnitzer PSV II 
CLASS:PUBLIC
DTSTART:20140308T180000Z
DTSTAMP:20140325T194000Z
END:VEVENT
BEGIN:VEVENT
UID:22758-2da69939ed67427dc6bf3daba21059e9
X-WR-RELCALID:22758-2da69939ed67427dc6bf3daba21059e9
ORGANIZER:Volleyball
SEQUENCE:261152345
SUMMARY:RLO Fr.: SSV Fortschritt Lichtenstein - Geraer VC
CLASS:PUBLIC
DTSTART:20140322T180000Z
DTSTAMP:20140325T194000Z
END:VEVENT
END:VCALENDAR