BEGIN:VCALENDAR
VERSION:2.0
PRODID:VSD-Portal-www.volley.de
METHOD:PUBLISH
BEGIN:VEVENT
UID:22692-2da69939ed67427dc6bf3daba21059e9
X-WR-RELCALID:22692-2da69939ed67427dc6bf3daba21059e9
ORGANIZER:Volleyball
SEQUENCE:261131553
SUMMARY:RLO Fr.: HSV Weimar - SSV Fortschritt Lichtenstein
CLASS:PUBLIC
DTSTART:20131012T180000Z
DTSTAMP:20140325T194000Z
END:VEVENT
BEGIN:VEVENT
UID:22700-2da69939ed67427dc6bf3daba21059e9
X-WR-RELCALID:22700-2da69939ed67427dc6bf3daba21059e9
ORGANIZER:Volleyball
SEQUENCE:261131553
SUMMARY:RLO Fr.: HSV Weimar - Geraer VC
CLASS:PUBLIC
DTSTART:20131102T190000Z
DTSTAMP:20140325T194000Z
END:VEVENT
BEGIN:VEVENT
UID:22708-2da69939ed67427dc6bf3daba21059e9
X-WR-RELCALID:22708-2da69939ed67427dc6bf3daba21059e9
ORGANIZER:Volleyball
SEQUENCE:261131553
SUMMARY:RLO Fr.: HSV Weimar - Chemnitzer PSV II 
CLASS:PUBLIC
DTSTART:20131116T150000Z
DTSTAMP:20140325T194000Z
END:VEVENT
BEGIN:VEVENT
UID:22712-2da69939ed67427dc6bf3daba21059e9
X-WR-RELCALID:22712-2da69939ed67427dc6bf3daba21059e9
ORGANIZER:Volleyball
SEQUENCE:261131553
SUMMARY:RLO Fr.: HSV Weimar - VV 70 Meiningen
CLASS:PUBLIC
DTSTART:20131123T190000Z
DTSTAMP:20140325T194000Z
END:VEVENT
BEGIN:VEVENT
UID:22720-2da69939ed67427dc6bf3daba21059e9
X-WR-RELCALID:22720-2da69939ed67427dc6bf3daba21059e9
ORGANIZER:Volleyball
SEQUENCE:261131553
SUMMARY:RLO Fr.: HSV Weimar - Dresdner SSV II 
CLASS:PUBLIC
DTSTART:20131208T150000Z
DTSTAMP:20140325T194000Z
END:VEVENT
BEGIN:VEVENT
UID:22725-2da69939ed67427dc6bf3daba21059e9
X-WR-RELCALID:22725-2da69939ed67427dc6bf3daba21059e9
ORGANIZER:Volleyball
SEQUENCE:261131553
SUMMARY:RLO Fr.: HSV Weimar - Dresdner SC 1898 II 
CLASS:PUBLIC
DTSTART:20140105T150000Z
DTSTAMP:20140325T194000Z
END:VEVENT
BEGIN:VEVENT
UID:22741-2da69939ed67427dc6bf3daba21059e9
X-WR-RELCALID:22741-2da69939ed67427dc6bf3daba21059e9
ORGANIZER:Volleyball
SEQUENCE:261131553
SUMMARY:RLO Fr.: HSV Weimar - TSV Leipzig 76
CLASS:PUBLIC
DTSTART:20140201T190000Z
DTSTAMP:20140325T194000Z
END:VEVENT
BEGIN:VEVENT
UID:22752-2da69939ed67427dc6bf3daba21059e9
X-WR-RELCALID:22752-2da69939ed67427dc6bf3daba21059e9
ORGANIZER:Volleyball
SEQUENCE:261131553
SUMMARY:RLO Fr.: HSV Weimar - L.E. Volleys
CLASS:PUBLIC
DTSTART:20140315T190000Z
DTSTAMP:20140325T194000Z
END:VEVENT
END:VCALENDAR