BEGIN:VCALENDAR
VERSION:2.0
PRODID:VSD-Portal-www.volley.de
METHOD:PUBLISH
BEGIN:VEVENT
UID:303936-0b1cb5f82de24c98f11e829bddb1f0f9
X-WR-RELCALID:303936-0b1cb5f82de24c98f11e829bddb1f0f9
ORGANIZER:Volleyball
SEQUENCE:261121630
LOCATION:Wolfgang-Borchert-Gymnasium, Am Sportplatz 2, 90579 Langenzen
 n
GEO:49.48794544555039000000;10.78105642053219500000
SUMMARY:U14 KL w: ASV Veitsbronn - TV Erlangen
CLASS:PUBLIC
DTSTART:20221023T080000Z
DTSTAMP:20221025T101300Z
END:VEVENT
BEGIN:VEVENT
UID:303938-0b1cb5f82de24c98f11e829bddb1f0f9
X-WR-RELCALID:303938-0b1cb5f82de24c98f11e829bddb1f0f9
ORGANIZER:Volleyball
SEQUENCE:261121630
LOCATION:Wolfgang-Borchert-Gymnasium, Am Sportplatz 2, 90579 Langenzen
 n
GEO:49.48794544555039000000;10.78105642053219500000
SUMMARY:U14 KL w: TV Erlangen - TV Hersbruck
CLASS:PUBLIC
DTSTART:20221023T080000Z
DTSTAMP:20221025T102100Z
END:VEVENT
BEGIN:VEVENT
UID:303950-0b1cb5f82de24c98f11e829bddb1f0f9
X-WR-RELCALID:303950-0b1cb5f82de24c98f11e829bddb1f0f9
ORGANIZER:Volleyball
SEQUENCE:261121630
LOCATION:Paul-Pfinzig-Gymnasium, Amberger Str. 30, 91217 Hersbruck
GEO:49.51108000000000000000;11.43496000000000000000
SUMMARY:U14 KL w: TV Erlangen - TSV Zirndorf
CLASS:PUBLIC
DTSTART:20221120T090000Z
DTSTAMP:20221216T203600Z
END:VEVENT
BEGIN:VEVENT
UID:303951-0b1cb5f82de24c98f11e829bddb1f0f9
X-WR-RELCALID:303951-0b1cb5f82de24c98f11e829bddb1f0f9
ORGANIZER:Volleyball
SEQUENCE:261121630
LOCATION:Paul-Pfinzig-Gymnasium, Amberger Str. 30, 91217 Hersbruck
GEO:49.51108000000000000000;11.43496000000000000000
SUMMARY:U14 KL w: TV Erlangen - Post SV Nürnberg III
CLASS:PUBLIC
DTSTART:20221120T090000Z
DTSTAMP:20221216T204000Z
END:VEVENT
BEGIN:VEVENT
UID:303963-0b1cb5f82de24c98f11e829bddb1f0f9
X-WR-RELCALID:303963-0b1cb5f82de24c98f11e829bddb1f0f9
ORGANIZER:Volleyball
SEQUENCE:261121630
LOCATION:Heinrich-Kirchner-Halle, Dompropststr. 2c, 91056 Erlangen
GEO:49.59411710234227400000;10.95366379364009000000
SUMMARY:U14 KL w: TV Erlangen - TSV Zirndorf
CLASS:PUBLIC
DTSTART:20221218T090000Z
DTSTAMP:20221223T084800Z
END:VEVENT
BEGIN:VEVENT
UID:303964-0b1cb5f82de24c98f11e829bddb1f0f9
X-WR-RELCALID:303964-0b1cb5f82de24c98f11e829bddb1f0f9
ORGANIZER:Volleyball
SEQUENCE:261121630
LOCATION:Heinrich-Kirchner-Halle, Dompropststr. 2c, 91056 Erlangen
GEO:49.59411710234227400000;10.95366379364009000000
SUMMARY:U14 KL w: TV Erlangen - Post SV Nürnberg III
CLASS:PUBLIC
DTSTART:20221218T090000Z
DTSTAMP:20221223T085200Z
END:VEVENT
BEGIN:VEVENT
UID:303957-0b1cb5f82de24c98f11e829bddb1f0f9
X-WR-RELCALID:303957-0b1cb5f82de24c98f11e829bddb1f0f9
ORGANIZER:Volleyball
SEQUENCE:261121630
LOCATION:Paul-Pfinzig-Gymnasium, Amberger Str. 30, 91217 Hersbruck
GEO:49.51108000000000000000;11.43496000000000000000
SUMMARY:U14 KL w: TV Erlangen - TV Hersbruck
CLASS:PUBLIC
DTSTART:20230122T090000Z
DTSTAMP:20230122T150800Z
END:VEVENT
BEGIN:VEVENT
UID:303958-0b1cb5f82de24c98f11e829bddb1f0f9
X-WR-RELCALID:303958-0b1cb5f82de24c98f11e829bddb1f0f9
ORGANIZER:Volleyball
SEQUENCE:261121630
LOCATION:Paul-Pfinzig-Gymnasium, Amberger Str. 30, 91217 Hersbruck
GEO:49.51108000000000000000;11.43496000000000000000
SUMMARY:U14 KL w: ASV Veitsbronn - TV Erlangen
CLASS:PUBLIC
DTSTART:20230122T090000Z
DTSTAMP:20230122T150900Z
END:VEVENT
END:VCALENDAR