BEGIN:VCALENDAR
VERSION:2.0
PRODID:VSD-Portal-www.volley.de
METHOD:PUBLISH
BEGIN:VEVENT
UID:299602-0b1cb5f82de24c98f11e829bddb1f0f9
X-WR-RELCALID:299602-0b1cb5f82de24c98f11e829bddb1f0f9
ORGANIZER:Volleyball
SEQUENCE:261101522
LOCATION:Rednitzhalle, Rathausplatz 7, 91126 Rednitzhembach
GEO:49.30182191259082000000;11.06915154003900200000
SUMMARY:U15 BKL 2 w: SV Rednitzhembach II - TSV Zirndorf
CLASS:PUBLIC
DTSTART:20221016T080000Z
DTSTAMP:20221025T095900Z
END:VEVENT
BEGIN:VEVENT
UID:299603-0b1cb5f82de24c98f11e829bddb1f0f9
X-WR-RELCALID:299603-0b1cb5f82de24c98f11e829bddb1f0f9
ORGANIZER:Volleyball
SEQUENCE:261101522
LOCATION:Rednitzhalle, Rathausplatz 7, 91126 Rednitzhembach
GEO:49.30182191259082000000;11.06915154003900200000
SUMMARY:U15 BKL 2 w: SV Rednitzhembach II - TSV Zirndorf II
CLASS:PUBLIC
DTSTART:20221016T080000Z
DTSTAMP:20221025T100200Z
END:VEVENT
BEGIN:VEVENT
UID:299606-0b1cb5f82de24c98f11e829bddb1f0f9
X-WR-RELCALID:299606-0b1cb5f82de24c98f11e829bddb1f0f9
ORGANIZER:Volleyball
SEQUENCE:261101522
LOCATION:Jahnhalle, Jahnstr. 2, 90513 Zirndorf
GEO:49.44118285254261000000;10.96672366798407000000
SUMMARY:U15 BKL 2 w: SV Rednitzhembach II - TSV 1860 Weißenburg - a.K.
 
CLASS:PUBLIC
DTSTART:20221113T090000Z
DTSTAMP:20221215T192000Z
END:VEVENT
BEGIN:VEVENT
UID:299607-0b1cb5f82de24c98f11e829bddb1f0f9
X-WR-RELCALID:299607-0b1cb5f82de24c98f11e829bddb1f0f9
ORGANIZER:Volleyball
SEQUENCE:261101522
LOCATION:Jahnhalle, Jahnstr. 2, 90513 Zirndorf
GEO:49.44118285254261000000;10.96672366798407000000
SUMMARY:U15 BKL 2 w: SV Rednitzhembach II - TSG Geslau-Buch
CLASS:PUBLIC
DTSTART:20221113T090000Z
DTSTAMP:20221215T192300Z
END:VEVENT
BEGIN:VEVENT
UID:299612-0b1cb5f82de24c98f11e829bddb1f0f9
X-WR-RELCALID:299612-0b1cb5f82de24c98f11e829bddb1f0f9
ORGANIZER:Volleyball
SEQUENCE:261101522
LOCATION:Seeweiherhalle, An der Hagenau, 91781 Weißenburg
GEO:49.02603466817486600000;10.97521876190187000000
SUMMARY:U15 BKL 2 w: TSV Zirndorf - SV Rednitzhembach II
CLASS:PUBLIC
DTSTART:20221211T090000Z
DTSTAMP:20221215T185800Z
END:VEVENT
BEGIN:VEVENT
UID:299615-0b1cb5f82de24c98f11e829bddb1f0f9
X-WR-RELCALID:299615-0b1cb5f82de24c98f11e829bddb1f0f9
ORGANIZER:Volleyball
SEQUENCE:261101522
LOCATION:Seeweiherhalle, An der Hagenau, 91781 Weißenburg
GEO:49.02603466817486600000;10.97521876190187000000
SUMMARY:U15 BKL 2 w: SV Rednitzhembach II - TSV Zirndorf II
CLASS:PUBLIC
DTSTART:20221211T090000Z
DTSTAMP:20221215T190600Z
END:VEVENT
BEGIN:VEVENT
UID:299619-0b1cb5f82de24c98f11e829bddb1f0f9
X-WR-RELCALID:299619-0b1cb5f82de24c98f11e829bddb1f0f9
ORGANIZER:Volleyball
SEQUENCE:261101522
LOCATION:Schulturnhalle, Schulstraße 5, 91608 Geslau
GEO:49.36736000000000000000;10.31847000000000000000
SUMMARY:U15 BKL 2 w: TSG Geslau-Buch - SV Rednitzhembach II
CLASS:PUBLIC
DTSTART:20230115T090000Z
DTSTAMP:20230115T151600Z
END:VEVENT
BEGIN:VEVENT
UID:299621-0b1cb5f82de24c98f11e829bddb1f0f9
X-WR-RELCALID:299621-0b1cb5f82de24c98f11e829bddb1f0f9
ORGANIZER:Volleyball
SEQUENCE:261101522
LOCATION:Schulturnhalle, Schulstraße 5, 91608 Geslau
GEO:49.36736000000000000000;10.31847000000000000000
SUMMARY:U15 BKL 2 w: SV Rednitzhembach II - TSV 1860 Weißenburg - a.K.
 
CLASS:PUBLIC
DTSTART:20230115T090000Z
DTSTAMP:20230115T151800Z
END:VEVENT
END:VCALENDAR