BEGIN:VCALENDAR
VERSION:2.0
PRODID:VSD-Portal-www.volley.de
METHOD:PUBLISH
BEGIN:VEVENT
UID:294102-0b1cb5f82de24c98f11e829bddb1f0f9
X-WR-RELCALID:294102-0b1cb5f82de24c98f11e829bddb1f0f9
ORGANIZER:Volleyball
SEQUENCE:261122003
SUMMARY:KP Vorr Fr.: Post SV Nürnberg VI - TSV Neunkirchen a.B. II
CLASS:PUBLIC
DTSTART:20221202T184500Z
DTSTAMP:20221218T084100Z
END:VEVENT
END:VCALENDAR