BEGIN:VCALENDAR
VERSION:2.0
PRODID:VSD-Portal-www.volley.de
METHOD:PUBLISH
BEGIN:VEVENT
UID:293706-0b1cb5f82de24c98f11e829bddb1f0f9
X-WR-RELCALID:293706-0b1cb5f82de24c98f11e829bddb1f0f9
ORGANIZER:Volleyball
SEQUENCE:261091418
LOCATION:Christian-von-Bomhard-Schule, Schulstraße, 97215 Uffenheim
GEO:49.54168941322889400000;10.22387576455685100000
SUMMARY:U18 BKL w: SB Uffenheim - TV Fürth 1860
CLASS:PUBLIC
DTSTART;VALUE=DATE:20221016
DTSTAMP:20221020T162300Z
DTEND;VALUE=DATE:20221017
END:VEVENT
BEGIN:VEVENT
UID:293720-0b1cb5f82de24c98f11e829bddb1f0f9
X-WR-RELCALID:293720-0b1cb5f82de24c98f11e829bddb1f0f9
ORGANIZER:Volleyball
SEQUENCE:261091418
LOCATION:Jahnhalle, Jahnstr. 2, 90513 Zirndorf
GEO:49.44118285254261000000;10.96672366798407000000
SUMMARY:U18 BKL w: TSV Zirndorf - TV Fürth 1860
CLASS:PUBLIC
DTSTART;VALUE=DATE:20221113
DTSTAMP:20221120T093100Z
DTEND;VALUE=DATE:20221114
END:VEVENT
BEGIN:VEVENT
UID:293722-0b1cb5f82de24c98f11e829bddb1f0f9
X-WR-RELCALID:293722-0b1cb5f82de24c98f11e829bddb1f0f9
ORGANIZER:Volleyball
SEQUENCE:261091418
LOCATION:Jahnhalle, Jahnstr. 2, 90513 Zirndorf
GEO:49.44118285254261000000;10.96672366798407000000
SUMMARY:U18 BKL w: TV Fürth 1860 - SV Rednitzhembach
CLASS:PUBLIC
DTSTART;VALUE=DATE:20221113
DTSTAMP:20221120T093800Z
DTEND;VALUE=DATE:20221114
END:VEVENT
BEGIN:VEVENT
UID:293729-0b1cb5f82de24c98f11e829bddb1f0f9
X-WR-RELCALID:293729-0b1cb5f82de24c98f11e829bddb1f0f9
ORGANIZER:Volleyball
SEQUENCE:261091418
LOCATION:TV Fürth – Vereinshalle, Coubertinstr. 9-11, 90768 Fürth
GEO:49.46349848657778400000;10.95584579629519300000
SUMMARY:U18 BKL w: TV Fürth 1860 - TSV 1860 Weißenburg
CLASS:PUBLIC
DTSTART;VALUE=DATE:20221127
DTSTAMP:20221201T141000Z
DTEND;VALUE=DATE:20221128
END:VEVENT
BEGIN:VEVENT
UID:293730-0b1cb5f82de24c98f11e829bddb1f0f9
X-WR-RELCALID:293730-0b1cb5f82de24c98f11e829bddb1f0f9
ORGANIZER:Volleyball
SEQUENCE:261091418
LOCATION:TV Fürth – Vereinshalle, Coubertinstr. 9-11, 90768 Fürth
GEO:49.46349848657778400000;10.95584579629519300000
SUMMARY:U18 BKL w: TV Fürth 1860 - ASV Neumarkt
CLASS:PUBLIC
DTSTART;VALUE=DATE:20221127
DTSTAMP:20221201T141500Z
DTEND;VALUE=DATE:20221128
END:VEVENT
BEGIN:VEVENT
UID:293732-0b1cb5f82de24c98f11e829bddb1f0f9
X-WR-RELCALID:293732-0b1cb5f82de24c98f11e829bddb1f0f9
ORGANIZER:Volleyball
SEQUENCE:261091418
LOCATION:Julius-Hirsch-Halle, Kapellenstr. 41, 90762 Fürth
GEO:49.48146440000000000000;10.98874690000000000000
SUMMARY:U18 BKL w: TV Fürth 1860 - SpVgg Greuther Fürth
CLASS:PUBLIC
DTSTART;VALUE=DATE:20221211
DTSTAMP:20221218T090100Z
DTEND;VALUE=DATE:20221212
END:VEVENT
BEGIN:VEVENT
UID:293733-0b1cb5f82de24c98f11e829bddb1f0f9
X-WR-RELCALID:293733-0b1cb5f82de24c98f11e829bddb1f0f9
ORGANIZER:Volleyball
SEQUENCE:261091418
LOCATION:Julius-Hirsch-Halle, Kapellenstr. 41, 90762 Fürth
GEO:49.48146440000000000000;10.98874690000000000000
SUMMARY:U18 BKL w: TV Fürth 1860 - TB Erlangen
CLASS:PUBLIC
DTSTART;VALUE=DATE:20221211
DTSTAMP:20221218T090800Z
DTEND;VALUE=DATE:20221212
END:VEVENT
END:VCALENDAR