BEGIN:VCALENDAR
VERSION:2.0
PRODID:VSD-Portal-www.volley.de
METHOD:PUBLISH
BEGIN:VEVENT
UID:293712-0b1cb5f82de24c98f11e829bddb1f0f9
X-WR-RELCALID:293712-0b1cb5f82de24c98f11e829bddb1f0f9
ORGANIZER:Volleyball
SEQUENCE:261100025
LOCATION:Heinrich Hirsemann Halle, Schillerstr. 51, 91054 Erlangen
GEO:49.59835000000000000000;11.02518000000000000000
SUMMARY:U18 BKL w: TB Erlangen - TSV 1860 Weißenburg
CLASS:PUBLIC
DTSTART;VALUE=DATE:20221016
DTSTAMP:20221121T155300Z
DTEND;VALUE=DATE:20221017
END:VEVENT
BEGIN:VEVENT
UID:293713-0b1cb5f82de24c98f11e829bddb1f0f9
X-WR-RELCALID:293713-0b1cb5f82de24c98f11e829bddb1f0f9
ORGANIZER:Volleyball
SEQUENCE:261100025
LOCATION:Heinrich Hirsemann Halle, Schillerstr. 51, 91054 Erlangen
GEO:49.59835000000000000000;11.02518000000000000000
SUMMARY:U18 BKL w: TSV Zirndorf - TSV 1860 Weißenburg
CLASS:PUBLIC
DTSTART;VALUE=DATE:20221016
DTSTAMP:20221121T155300Z
DTEND;VALUE=DATE:20221017
END:VEVENT
BEGIN:VEVENT
UID:293719-0b1cb5f82de24c98f11e829bddb1f0f9
X-WR-RELCALID:293719-0b1cb5f82de24c98f11e829bddb1f0f9
ORGANIZER:Volleyball
SEQUENCE:261100025
LOCATION:Sporthalle der Realschule, Rothenburgerstr. 10, 91315 Höchsta
 dt
GEO:49.70789224731059000000;10.79603993652347000000
SUMMARY:U18 BKL w: SpVgg Greuther Fürth - TSV 1860 Weißenburg
CLASS:PUBLIC
DTSTART;VALUE=DATE:20221113
DTSTAMP:20221120T094200Z
DTEND;VALUE=DATE:20221114
END:VEVENT
BEGIN:VEVENT
UID:293729-0b1cb5f82de24c98f11e829bddb1f0f9
X-WR-RELCALID:293729-0b1cb5f82de24c98f11e829bddb1f0f9
ORGANIZER:Volleyball
SEQUENCE:261100025
LOCATION:TV Fürth – Vereinshalle, Coubertinstr. 9-11, 90768 Fürth
GEO:49.46349848657778400000;10.95584579629519300000
SUMMARY:U18 BKL w: TV Fürth 1860 - TSV 1860 Weißenburg
CLASS:PUBLIC
DTSTART;VALUE=DATE:20221127
DTSTAMP:20221201T141000Z
DTEND;VALUE=DATE:20221128
END:VEVENT
BEGIN:VEVENT
UID:293731-0b1cb5f82de24c98f11e829bddb1f0f9
X-WR-RELCALID:293731-0b1cb5f82de24c98f11e829bddb1f0f9
ORGANIZER:Volleyball
SEQUENCE:261100025
LOCATION:TV Fürth – Vereinshalle, Coubertinstr. 9-11, 90768 Fürth
GEO:49.46349848657778400000;10.95584579629519300000
SUMMARY:U18 BKL w: TSV 1860 Weißenburg - ASV Neumarkt
CLASS:PUBLIC
DTSTART;VALUE=DATE:20221127
DTSTAMP:20221201T141800Z
DTEND;VALUE=DATE:20221128
END:VEVENT
BEGIN:VEVENT
UID:293735-0b1cb5f82de24c98f11e829bddb1f0f9
X-WR-RELCALID:293735-0b1cb5f82de24c98f11e829bddb1f0f9
ORGANIZER:Volleyball
SEQUENCE:261100025
LOCATION:Halle am Seeweiher, An der Hagenau, 91781 Weißenburg
GEO:49.02640500000000000000;10.97573400000000000000
SUMMARY:U18 BKL w: TSV 1860 Weißenburg - SV Rednitzhembach
CLASS:PUBLIC
DTSTART;VALUE=DATE:20221211
DTSTAMP:20221218T091500Z
DTEND;VALUE=DATE:20221212
END:VEVENT
BEGIN:VEVENT
UID:293736-0b1cb5f82de24c98f11e829bddb1f0f9
X-WR-RELCALID:293736-0b1cb5f82de24c98f11e829bddb1f0f9
ORGANIZER:Volleyball
SEQUENCE:261100025
LOCATION:Halle am Seeweiher, An der Hagenau, 91781 Weißenburg
GEO:49.02640500000000000000;10.97573400000000000000
SUMMARY:U18 BKL w: TSV 1860 Weißenburg - SB Uffenheim
CLASS:PUBLIC
DTSTART;VALUE=DATE:20221211
DTSTAMP:20221218T091800Z
DTEND;VALUE=DATE:20221212
END:VEVENT
END:VCALENDAR