BEGIN:VCALENDAR
VERSION:2.0
PRODID:VSD-Portal-www.volley.de
METHOD:PUBLISH
BEGIN:VEVENT
UID:298392-0b1cb5f82de24c98f11e829bddb1f0f9
X-WR-RELCALID:298392-0b1cb5f82de24c98f11e829bddb1f0f9
ORGANIZER:Volleyball
SEQUENCE:261131113
LOCATION:Seeweiherhalle, An der Hagenau, 91781 Weißenburg
GEO:49.02603466817486600000;10.97521876190187000000
SUMMARY:KKL SO Fr.: TSV 1860 Weißenburg II - Post SV Nürnberg V
CLASS:PUBLIC
DTSTART:20220924T120000Z
DTSTAMP:20230109T152300Z
END:VEVENT
BEGIN:VEVENT
UID:298393-0b1cb5f82de24c98f11e829bddb1f0f9
X-WR-RELCALID:298393-0b1cb5f82de24c98f11e829bddb1f0f9
ORGANIZER:Volleyball
SEQUENCE:261131113
LOCATION:Seeweiherhalle, An der Hagenau, 91781 Weißenburg
GEO:49.02603466817486600000;10.97521876190187000000
SUMMARY:KKL SO Fr.: TSV 1860 Weißenburg II - Post SV Nürnberg VI
CLASS:PUBLIC
DTSTART:20220924T120000Z
DTSTAMP:20230109T152400Z
END:VEVENT
BEGIN:VEVENT
UID:298402-0b1cb5f82de24c98f11e829bddb1f0f9
X-WR-RELCALID:298402-0b1cb5f82de24c98f11e829bddb1f0f9
ORGANIZER:Volleyball
SEQUENCE:261131113
LOCATION:Johannes-Scharrer-Gymnasium, Tetzelgasse 20 (Zugang über Mumm
 enhoffstr.), 90403 Nürnberg
GEO:49.45753616851561000000;11.08140696693419600000
SUMMARY:KKL SO Fr.: Post SV Nürnberg VI - TSV 1860 Weißenburg II
CLASS:PUBLIC
DTSTART:20221022T120000Z
DTSTAMP:20230109T200700Z
END:VEVENT
BEGIN:VEVENT
UID:298403-0b1cb5f82de24c98f11e829bddb1f0f9
X-WR-RELCALID:298403-0b1cb5f82de24c98f11e829bddb1f0f9
ORGANIZER:Volleyball
SEQUENCE:261131113
LOCATION:Johannes-Scharrer-Gymnasium, Tetzelgasse 20 (Zugang über Mumm
 enhoffstr.), 90403 Nürnberg
GEO:49.45753616851561000000;11.08140696693419600000
SUMMARY:KKL SO Fr.: ASV Neumarkt - TSV 1860 Weißenburg II
CLASS:PUBLIC
DTSTART:20221022T120000Z
DTSTAMP:20230109T200700Z
END:VEVENT
BEGIN:VEVENT
UID:298396-0b1cb5f82de24c98f11e829bddb1f0f9
X-WR-RELCALID:298396-0b1cb5f82de24c98f11e829bddb1f0f9
ORGANIZER:Volleyball
SEQUENCE:261131113
LOCATION:Gretel-Bergmann-Schule (Dependance Zugspitzstraße), Zugspitzs
 tr. 123, 90471 Nürnberg
GEO:49.40880976963869400000;11.11866523809814200000
SUMMARY:KKL SO Fr.: Post SV Nürnberg V - TSV 1860 Weißenburg II
CLASS:PUBLIC
DTSTART:20221105T130000Z
DTSTAMP:20230109T200700Z
END:VEVENT
BEGIN:VEVENT
UID:298397-0b1cb5f82de24c98f11e829bddb1f0f9
X-WR-RELCALID:298397-0b1cb5f82de24c98f11e829bddb1f0f9
ORGANIZER:Volleyball
SEQUENCE:261131113
LOCATION:Gretel-Bergmann-Schule (Dependance Zugspitzstraße), Zugspitzs
 tr. 123, 90471 Nürnberg
GEO:49.40880976963869400000;11.11866523809814200000
SUMMARY:KKL SO Fr.: TV Altdorf IV - TSV 1860 Weißenburg II
CLASS:PUBLIC
DTSTART:20221105T130000Z
DTSTAMP:20230109T200700Z
END:VEVENT
BEGIN:VEVENT
UID:298410-0b1cb5f82de24c98f11e829bddb1f0f9
X-WR-RELCALID:298410-0b1cb5f82de24c98f11e829bddb1f0f9
ORGANIZER:Volleyball
SEQUENCE:261131113
LOCATION:Seeweiherhalle, An der Hagenau, 91781 Weißenburg
GEO:49.02603466817486600000;10.97521876190187000000
SUMMARY:KKL SO Fr.: TSV 1860 Weißenburg II - SV Rednitzhembach II
CLASS:PUBLIC
DTSTART:20221119T130000Z
DTSTAMP:20230109T200800Z
END:VEVENT
BEGIN:VEVENT
UID:298411-0b1cb5f82de24c98f11e829bddb1f0f9
X-WR-RELCALID:298411-0b1cb5f82de24c98f11e829bddb1f0f9
ORGANIZER:Volleyball
SEQUENCE:261131113
LOCATION:Seeweiherhalle, An der Hagenau, 91781 Weißenburg
GEO:49.02603466817486600000;10.97521876190187000000
SUMMARY:KKL SO Fr.: TSV 1860 Weißenburg II - ASV Neumarkt
CLASS:PUBLIC
DTSTART:20221119T130000Z
DTSTAMP:20230109T200800Z
END:VEVENT
BEGIN:VEVENT
UID:298426-0b1cb5f82de24c98f11e829bddb1f0f9
X-WR-RELCALID:298426-0b1cb5f82de24c98f11e829bddb1f0f9
ORGANIZER:Volleyball
SEQUENCE:261131113
LOCATION:3-fach Halle an der Mittelschule, Schulstraße 6, 90518 Altdor
 f
GEO:49.38834477312368400000;11.34186590209961800000
SUMMARY:KKL SO Fr.: TV Altdorf IV - TSV 1860 Weißenburg II
CLASS:PUBLIC
DTSTART:20230121T130000Z
DTSTAMP:20230325T133100Z
END:VEVENT
BEGIN:VEVENT
UID:298427-0b1cb5f82de24c98f11e829bddb1f0f9
X-WR-RELCALID:298427-0b1cb5f82de24c98f11e829bddb1f0f9
ORGANIZER:Volleyball
SEQUENCE:261131113
LOCATION:3-fach Halle an der Mittelschule, Schulstraße 6, 90518 Altdor
 f
GEO:49.38834477312368400000;11.34186590209961800000
SUMMARY:KKL SO Fr.: TSV Feucht II - TSV 1860 Weißenburg II
CLASS:PUBLIC
DTSTART:20230121T130000Z
DTSTAMP:20230325T133100Z
END:VEVENT
BEGIN:VEVENT
UID:298432-0b1cb5f82de24c98f11e829bddb1f0f9
X-WR-RELCALID:298432-0b1cb5f82de24c98f11e829bddb1f0f9
ORGANIZER:Volleyball
SEQUENCE:261131113
LOCATION:Rednitzhalle, Rathausplatz 7, 91126 Rednitzhembach
GEO:49.30182191259082000000;11.06915154003900200000
SUMMARY:KKL SO Fr.: SV Rednitzhembach II - TSV 1860 Weißenburg II
CLASS:PUBLIC
DTSTART:20230304T130000Z
DTSTAMP:20230325T133000Z
END:VEVENT
BEGIN:VEVENT
UID:298433-0b1cb5f82de24c98f11e829bddb1f0f9
X-WR-RELCALID:298433-0b1cb5f82de24c98f11e829bddb1f0f9
ORGANIZER:Volleyball
SEQUENCE:261131113
LOCATION:Rednitzhalle, Rathausplatz 7, 91126 Rednitzhembach
GEO:49.30182191259082000000;11.06915154003900200000
SUMMARY:KKL SO Fr.: TSV Feucht II - TSV 1860 Weißenburg II
CLASS:PUBLIC
DTSTART:20230304T130000Z
DTSTAMP:20230325T133000Z
END:VEVENT
END:VCALENDAR