BEGIN:VCALENDAR
VERSION:2.0
PRODID:VSD-Portal-www.volley.de
METHOD:PUBLISH
BEGIN:VEVENT
UID:288195-0b1cb5f82de24c98f11e829bddb1f0f9
X-WR-RELCALID:288195-0b1cb5f82de24c98f11e829bddb1f0f9
ORGANIZER:Volleyball
SEQUENCE:261122008
LOCATION:Sporthalle der Realschule, Rothenburgerstr. 10, 91315 Höchsta
 dt
GEO:49.70789224731059000000;10.79603993652347000000
SUMMARY:BayPo w: Oberbayern II - Oberbayern
CLASS:PUBLIC
DTSTART;VALUE=DATE:20220423
DTSTAMP:20220423T161500Z
DTEND;VALUE=DATE:20220424
END:VEVENT
END:VCALENDAR