BEGIN:VCALENDAR
VERSION:2.0
PRODID:VSD-Portal-www.volley.de
METHOD:PUBLISH
BEGIN:VEVENT
UID:287111-0b1cb5f82de24c98f11e829bddb1f0f9
X-WR-RELCALID:287111-0b1cb5f82de24c98f11e829bddb1f0f9
ORGANIZER:Volleyball
SEQUENCE:261102110
LOCATION:Johannes-Scharrer-Gymnasium, Tetzelgasse 20 (Zugang über Mumm
 enhoffstr.), 90403 Nürnberg
GEO:49.45753616851561000000;11.08140696693419600000
SUMMARY:U12 Quali w: SV Schwaig II - Post SV Nürnberg
CLASS:PUBLIC
DTSTART:20220320T090000Z
DTSTAMP:20220320T191100Z
END:VEVENT
BEGIN:VEVENT
UID:287112-0b1cb5f82de24c98f11e829bddb1f0f9
X-WR-RELCALID:287112-0b1cb5f82de24c98f11e829bddb1f0f9
ORGANIZER:Volleyball
SEQUENCE:261102110
LOCATION:Johannes-Scharrer-Gymnasium, Tetzelgasse 20 (Zugang über Mumm
 enhoffstr.), 90403 Nürnberg
GEO:49.45753616851561000000;11.08140696693419600000
SUMMARY:U12 Quali w: FC Dombühl - SV Schwaig II
CLASS:PUBLIC
DTSTART:20220320T090000Z
DTSTAMP:20220320T191200Z
END:VEVENT
BEGIN:VEVENT
UID:287113-0b1cb5f82de24c98f11e829bddb1f0f9
X-WR-RELCALID:287113-0b1cb5f82de24c98f11e829bddb1f0f9
ORGANIZER:Volleyball
SEQUENCE:261102110
LOCATION:Johannes-Scharrer-Gymnasium, Tetzelgasse 20 (Zugang über Mumm
 enhoffstr.), 90403 Nürnberg
GEO:49.45753616851561000000;11.08140696693419600000
SUMMARY:U12 Quali w: FC Dombühl - Post SV Nürnberg
CLASS:PUBLIC
DTSTART:20220320T090000Z
DTSTAMP:20220320T191400Z
END:VEVENT
END:VCALENDAR