BEGIN:VCALENDAR
VERSION:2.0
PRODID:VSD-Portal-www.volley.de
METHOD:PUBLISH
BEGIN:VEVENT
UID:70689-0b1cb5f82de24c98f11e829bddb1f0f9
X-WR-RELCALID:70689-0b1cb5f82de24c98f11e829bddb1f0f9
ORGANIZER:Volleyball
SEQUENCE:261130642
SUMMARY:BKl Ost Mä.: TuS Oberding 2 - SV Bruckmühl
CLASS:PUBLIC
DTSTART:20091017T123000Z
DTSTAMP:20140607T192000Z
END:VEVENT
BEGIN:VEVENT
UID:70757-0b1cb5f82de24c98f11e829bddb1f0f9
X-WR-RELCALID:70757-0b1cb5f82de24c98f11e829bddb1f0f9
ORGANIZER:Volleyball
SEQUENCE:261130642
SUMMARY:BKl Ost Mä.: TuS Oberding 2 - TSV Grafing 3
CLASS:PUBLIC
DTSTART:20091017T123000Z
DTSTAMP:20140607T192000Z
END:VEVENT
BEGIN:VEVENT
UID:70775-0b1cb5f82de24c98f11e829bddb1f0f9
X-WR-RELCALID:70775-0b1cb5f82de24c98f11e829bddb1f0f9
ORGANIZER:Volleyball
SEQUENCE:261130642
SUMMARY:BKl Ost Mä.: SG Hausham - TuS Oberding 2
CLASS:PUBLIC
DTSTART:20091128T133000Z
DTSTAMP:20140607T192000Z
END:VEVENT
BEGIN:VEVENT
UID:70776-0b1cb5f82de24c98f11e829bddb1f0f9
X-WR-RELCALID:70776-0b1cb5f82de24c98f11e829bddb1f0f9
ORGANIZER:Volleyball
SEQUENCE:261130642
SUMMARY:BKl Ost Mä.: SV Studentenstadt Freimann - TuS Oberding 2
CLASS:PUBLIC
DTSTART:20091128T133000Z
DTSTAMP:20140607T192000Z
END:VEVENT
BEGIN:VEVENT
UID:70737-0b1cb5f82de24c98f11e829bddb1f0f9
X-WR-RELCALID:70737-0b1cb5f82de24c98f11e829bddb1f0f9
ORGANIZER:Volleyball
SEQUENCE:261130642
SUMMARY:BKl Ost Mä.: TuS Oberding 2 - VC Ottobrunn
CLASS:PUBLIC
DTSTART:20091212T133000Z
DTSTAMP:20140607T192000Z
END:VEVENT
BEGIN:VEVENT
UID:70692-0b1cb5f82de24c98f11e829bddb1f0f9
X-WR-RELCALID:70692-0b1cb5f82de24c98f11e829bddb1f0f9
ORGANIZER:Volleyball
SEQUENCE:261130642
SUMMARY:BKl Ost Mä.: TuS Oberding 2 - TV Obing
CLASS:PUBLIC
DTSTART:20091212T133000Z
DTSTAMP:20140607T192000Z
END:VEVENT
BEGIN:VEVENT
UID:70746-0b1cb5f82de24c98f11e829bddb1f0f9
X-WR-RELCALID:70746-0b1cb5f82de24c98f11e829bddb1f0f9
ORGANIZER:Volleyball
SEQUENCE:261130642
SUMMARY:BKl Ost Mä.: TSV Grafing 3 - TuS Oberding 2
CLASS:PUBLIC
DTSTART:20091219T133000Z
DTSTAMP:20140607T192000Z
END:VEVENT
BEGIN:VEVENT
UID:70768-0b1cb5f82de24c98f11e829bddb1f0f9
X-WR-RELCALID:70768-0b1cb5f82de24c98f11e829bddb1f0f9
ORGANIZER:Volleyball
SEQUENCE:261130642
SUMMARY:BKl Ost Mä.: TSV Gars - TuS Oberding 2
CLASS:PUBLIC
DTSTART:20091219T133000Z
DTSTAMP:20140607T192000Z
END:VEVENT
BEGIN:VEVENT
UID:70726-0b1cb5f82de24c98f11e829bddb1f0f9
X-WR-RELCALID:70726-0b1cb5f82de24c98f11e829bddb1f0f9
ORGANIZER:Volleyball
SEQUENCE:261130642
SUMMARY:BKl Ost Mä.: DJK SB München Ost - TuS Oberding 2
CLASS:PUBLIC
DTSTART:20100116T133000Z
DTSTAMP:20140607T192000Z
END:VEVENT
BEGIN:VEVENT
UID:70706-0b1cb5f82de24c98f11e829bddb1f0f9
X-WR-RELCALID:70706-0b1cb5f82de24c98f11e829bddb1f0f9
ORGANIZER:Volleyball
SEQUENCE:261130642
SUMMARY:BKl Ost Mä.: SV Studentenstadt Freimann - TuS Oberding 2
CLASS:PUBLIC
DTSTART:20100116T133000Z
DTSTAMP:20140607T192000Z
END:VEVENT
BEGIN:VEVENT
UID:70722-0b1cb5f82de24c98f11e829bddb1f0f9
X-WR-RELCALID:70722-0b1cb5f82de24c98f11e829bddb1f0f9
ORGANIZER:Volleyball
SEQUENCE:261130642
SUMMARY:BKl Ost Mä.: MTV Rosenheim - TuS Oberding 2
CLASS:PUBLIC
DTSTART:20100123T133000Z
DTSTAMP:20140607T192000Z
END:VEVENT
BEGIN:VEVENT
UID:70762-0b1cb5f82de24c98f11e829bddb1f0f9
X-WR-RELCALID:70762-0b1cb5f82de24c98f11e829bddb1f0f9
ORGANIZER:Volleyball
SEQUENCE:261130642
SUMMARY:BKl Ost Mä.: SG Hausham - TuS Oberding 2
CLASS:PUBLIC
DTSTART:20100123T133000Z
DTSTAMP:20140607T192000Z
END:VEVENT
BEGIN:VEVENT
UID:70751-0b1cb5f82de24c98f11e829bddb1f0f9
X-WR-RELCALID:70751-0b1cb5f82de24c98f11e829bddb1f0f9
ORGANIZER:Volleyball
SEQUENCE:261130642
SUMMARY:BKl Ost Mä.: TuS Oberding 2 - TSV Gars
CLASS:PUBLIC
DTSTART:20100206T133000Z
DTSTAMP:20140607T192000Z
END:VEVENT
BEGIN:VEVENT
UID:70752-0b1cb5f82de24c98f11e829bddb1f0f9
X-WR-RELCALID:70752-0b1cb5f82de24c98f11e829bddb1f0f9
ORGANIZER:Volleyball
SEQUENCE:261130642
SUMMARY:BKl Ost Mä.: TuS Oberding 2 - TV Obing
CLASS:PUBLIC
DTSTART:20100206T133000Z
DTSTAMP:20140607T192000Z
END:VEVENT
BEGIN:VEVENT
UID:70766-0b1cb5f82de24c98f11e829bddb1f0f9
X-WR-RELCALID:70766-0b1cb5f82de24c98f11e829bddb1f0f9
ORGANIZER:Volleyball
SEQUENCE:261130642
SUMMARY:BKl Ost Mä.: TuS Oberding 2 - DJK SB München Ost
CLASS:PUBLIC
DTSTART:20100306T133000Z
DTSTAMP:20140607T192000Z
END:VEVENT
BEGIN:VEVENT
UID:70756-0b1cb5f82de24c98f11e829bddb1f0f9
X-WR-RELCALID:70756-0b1cb5f82de24c98f11e829bddb1f0f9
ORGANIZER:Volleyball
SEQUENCE:261130642
SUMMARY:BKl Ost Mä.: TuS Oberding 2 - VC Ottobrunn
CLASS:PUBLIC
DTSTART:20100306T133000Z
DTSTAMP:20140607T192000Z
END:VEVENT
BEGIN:VEVENT
UID:70710-0b1cb5f82de24c98f11e829bddb1f0f9
X-WR-RELCALID:70710-0b1cb5f82de24c98f11e829bddb1f0f9
ORGANIZER:Volleyball
SEQUENCE:261130642
SUMMARY:BKl Ost Mä.: SV Bruckmühl - TuS Oberding 2
CLASS:PUBLIC
DTSTART:20100313T133000Z
DTSTAMP:20140607T192000Z
END:VEVENT
BEGIN:VEVENT
UID:70759-0b1cb5f82de24c98f11e829bddb1f0f9
X-WR-RELCALID:70759-0b1cb5f82de24c98f11e829bddb1f0f9
ORGANIZER:Volleyball
SEQUENCE:261130642
SUMMARY:BKl Ost Mä.: TuS Oberding 2 - MTV Rosenheim
CLASS:PUBLIC
DTSTART:20100313T133000Z
DTSTAMP:20140607T192000Z
END:VEVENT
END:VCALENDAR