BEGIN:VCALENDAR
VERSION:2.0
PRODID:VSD-Portal-www.volley.de
METHOD:PUBLISH
BEGIN:VEVENT
UID:269174-0b1cb5f82de24c98f11e829bddb1f0f9
X-WR-RELCALID:269174-0b1cb5f82de24c98f11e829bddb1f0f9
ORGANIZER:Volleyball
SEQUENCE:261151418
LOCATION:Gemeindehalle Eiselfing, Pfarrer-Mördel-Weg 3, 83549 Eiselfin
 g
GEO:48.04020480000000000000;12.24298470000000000000
SUMMARY:U20 BKL 1 w: TSV Grafing - MTV Rosenheim
CLASS:PUBLIC
DTSTART:20211205T090000Z
DTSTAMP:20210728T195700Z
END:VEVENT
END:VCALENDAR