BEGIN:VCALENDAR
VERSION:2.0
PRODID:VSD-Portal-www.volley.de
METHOD:PUBLISH
BEGIN:VEVENT
UID:279143-0b1cb5f82de24c98f11e829bddb1f0f9
X-WR-RELCALID:279143-0b1cb5f82de24c98f11e829bddb1f0f9
ORGANIZER:Volleyball
SEQUENCE:261091528
LOCATION:Mehrzweckhalle am Parkbad, Ludwig-Thoma-Platz 1, 86633 Neubur
 g
GEO:48.73814339457399600000;11.18986784655760400000
SUMMARY:U16 KL 2 w: TSV 1862 Neuburg II - TSV 1862 Neuburg
CLASS:PUBLIC
DTSTART:20220401T140000Z
DTSTAMP:20220401T192000Z
END:VEVENT
BEGIN:VEVENT
UID:279135-0b1cb5f82de24c98f11e829bddb1f0f9
X-WR-RELCALID:279135-0b1cb5f82de24c98f11e829bddb1f0f9
ORGANIZER:Volleyball
SEQUENCE:261091528
LOCATION:Mehrzweckhalle am Parkbad, Ludwig-Thoma-Platz 1, 86633 Neubur
 g
GEO:48.73814339457399600000;11.18986784655760400000
SUMMARY:U16 KL 2 w: SV Wettstetten II - TSV 1862 Neuburg
CLASS:PUBLIC
DTSTART:20220403T080000Z
DTSTAMP:20220327T202700Z
END:VEVENT
BEGIN:VEVENT
UID:279145-0b1cb5f82de24c98f11e829bddb1f0f9
X-WR-RELCALID:279145-0b1cb5f82de24c98f11e829bddb1f0f9
ORGANIZER:Volleyball
SEQUENCE:261091528
LOCATION:Mehrzweckhalle am Parkbad, Ludwig-Thoma-Platz 1, 86633 Neubur
 g
GEO:48.73814339457399600000;11.18986784655760400000
SUMMARY:U16 KL 2 w: MBB-SG Manching - a.K. - TSV 1862 Neuburg
CLASS:PUBLIC
DTSTART:20220403T080000Z
DTSTAMP:20220403T120800Z
END:VEVENT
BEGIN:VEVENT
UID:279147-0b1cb5f82de24c98f11e829bddb1f0f9
X-WR-RELCALID:279147-0b1cb5f82de24c98f11e829bddb1f0f9
ORGANIZER:Volleyball
SEQUENCE:261091528
LOCATION:Mehrzweckhalle am Parkbad, Ludwig-Thoma-Platz 1, 86633 Neubur
 g
GEO:48.73814339457399600000;11.18986784655760400000
SUMMARY:U16 KL 2 w: SV Wettstetten - a.K. - TSV 1862 Neuburg
CLASS:PUBLIC
DTSTART:20220403T080000Z
DTSTAMP:20220501T192300Z
END:VEVENT
BEGIN:VEVENT
UID:279136-0b1cb5f82de24c98f11e829bddb1f0f9
X-WR-RELCALID:279136-0b1cb5f82de24c98f11e829bddb1f0f9
ORGANIZER:Volleyball
SEQUENCE:261091528
LOCATION:Mehrzweckhalle am Parkbad, Ludwig-Thoma-Platz 1, 86633 Neubur
 g
GEO:48.73814339457399600000;11.18986784655760400000
SUMMARY:U16 KL 2 w: SC Freising - TSV 1862 Neuburg
CLASS:PUBLIC
DTSTART:20220403T080000Z
DTSTAMP:20220403T120700Z
END:VEVENT
END:VCALENDAR