BEGIN:VCALENDAR
VERSION:2.0
PRODID:VSD-Portal-www.volley.de
METHOD:PUBLISH
BEGIN:VEVENT
UID:272131-0b1cb5f82de24c98f11e829bddb1f0f9
X-WR-RELCALID:272131-0b1cb5f82de24c98f11e829bddb1f0f9
ORGANIZER:Volleyball
SEQUENCE:261100415
LOCATION:Hans-Leinberger-Gymnasium, Jürgen-Schumann-Str. 20, 84034 Lan
 dshut
GEO:48.54207000000000000000;12.12470000000000000000
SUMMARY:U16 BKSW w: TG Landshut - a.K. - TV Dingolfing
CLASS:PUBLIC
DTSTART:20211003T080000Z
DTSTAMP:20211003T112700Z
END:VEVENT
BEGIN:VEVENT
UID:272156-0b1cb5f82de24c98f11e829bddb1f0f9
X-WR-RELCALID:272156-0b1cb5f82de24c98f11e829bddb1f0f9
ORGANIZER:Volleyball
SEQUENCE:261100415
LOCATION:Vilstalhalle, Brückenstr. 15 1/2, 84137 Vilsbiburg
GEO:48.45181000000000000000;12.34896000000000000000
SUMMARY:U16 BKSW w: TG Landshut - a.K. - Rote Raben Vilsbiburg II
CLASS:PUBLIC
DTSTART:20211212T090000Z
DTSTAMP:20220125T105500Z
END:VEVENT
BEGIN:VEVENT
UID:272155-0b1cb5f82de24c98f11e829bddb1f0f9
X-WR-RELCALID:272155-0b1cb5f82de24c98f11e829bddb1f0f9
ORGANIZER:Volleyball
SEQUENCE:261100415
LOCATION:Vilstalhalle, Brückenstr. 15 1/2, 84137 Vilsbiburg
GEO:48.45181000000000000000;12.34896000000000000000
SUMMARY:U16 BKSW w: TG Landshut - a.K. - FTSV Straubing
CLASS:PUBLIC
DTSTART:20220123T090000Z
DTSTAMP:20220125T105500Z
END:VEVENT
END:VCALENDAR