BEGIN:VCALENDAR
VERSION:2.0
PRODID:VSD-Portal-www.volley.de
METHOD:PUBLISH
BEGIN:VEVENT
UID:260290-0b1cb5f82de24c98f11e829bddb1f0f9
X-WR-RELCALID:260290-0b1cb5f82de24c98f11e829bddb1f0f9
ORGANIZER:Volleyball
SEQUENCE:261101457
LOCATION:Jahnsporthalle, Kapellenstraße 17, 85567 Grafing
GEO:48.05019000000000000000;11.97310081481930400000
SUMMARY:RLSO Mä.: TSV Grafing II - VC Amberg
CLASS:PUBLIC
DTSTART:20201011T100000Z
DTSTAMP:20201012T114600Z
END:VEVENT
BEGIN:VEVENT
UID:260304-0b1cb5f82de24c98f11e829bddb1f0f9
X-WR-RELCALID:260304-0b1cb5f82de24c98f11e829bddb1f0f9
ORGANIZER:Volleyball
SEQUENCE:261101457
LOCATION:Jahnsporthalle, Kapellenstraße 17, 85567 Grafing
GEO:48.05019000000000000000;11.97310081481930400000
SUMMARY:RLSO Mä.: TSV Grafing II - TB/ASV Regenstauf
CLASS:PUBLIC
DTSTART:20201031T143000Z
DTSTAMP:20200821T080800Z
END:VEVENT
BEGIN:VEVENT
UID:260311-0b1cb5f82de24c98f11e829bddb1f0f9
X-WR-RELCALID:260311-0b1cb5f82de24c98f11e829bddb1f0f9
ORGANIZER:Volleyball
SEQUENCE:261101457
LOCATION:Jahnsporthalle, Kapellenstraße 17, 85567 Grafing
GEO:48.05019000000000000000;11.97310081481930400000
SUMMARY:RLSO Mä.: TSV Grafing II - FTM Schwabing
CLASS:PUBLIC
DTSTART:20201114T143000Z
DTSTAMP:20200821T080800Z
END:VEVENT
BEGIN:VEVENT
UID:260322-0b1cb5f82de24c98f11e829bddb1f0f9
X-WR-RELCALID:260322-0b1cb5f82de24c98f11e829bddb1f0f9
ORGANIZER:Volleyball
SEQUENCE:261101457
LOCATION:Jahnsporthalle, Kapellenstraße 17, 85567 Grafing
GEO:48.05019000000000000000;11.97310081481930400000
SUMMARY:RLSO Mä.: TSV Grafing II - TSV Dinkelsbühl
CLASS:PUBLIC
DTSTART:20201128T143000Z
DTSTAMP:20200821T081700Z
END:VEVENT
BEGIN:VEVENT
UID:260331-0b1cb5f82de24c98f11e829bddb1f0f9
X-WR-RELCALID:260331-0b1cb5f82de24c98f11e829bddb1f0f9
ORGANIZER:Volleyball
SEQUENCE:261101457
LOCATION:Jahnsporthalle, Kapellenstraße 17, 85567 Grafing
GEO:48.05019000000000000000;11.97310081481930400000
SUMMARY:RLSO Mä.: TSV Grafing II - TV Bad Windsheim
CLASS:PUBLIC
DTSTART:20201212T143000Z
DTSTAMP:20200821T081700Z
END:VEVENT
BEGIN:VEVENT
UID:260337-0b1cb5f82de24c98f11e829bddb1f0f9
X-WR-RELCALID:260337-0b1cb5f82de24c98f11e829bddb1f0f9
ORGANIZER:Volleyball
SEQUENCE:261101457
LOCATION:Jahnsporthalle, Kapellenstraße 17, 85567 Grafing
GEO:48.05019000000000000000;11.97310081481930400000
SUMMARY:RLSO Mä.: TSV Grafing II - ASV Dachau II
CLASS:PUBLIC
DTSTART:20201219T143000Z
DTSTAMP:20200821T081700Z
END:VEVENT
BEGIN:VEVENT
UID:260352-0b1cb5f82de24c98f11e829bddb1f0f9
X-WR-RELCALID:260352-0b1cb5f82de24c98f11e829bddb1f0f9
ORGANIZER:Volleyball
SEQUENCE:261101457
LOCATION:Jahnsporthalle, Kapellenstraße 17, 85567 Grafing
GEO:48.05019000000000000000;11.97310081481930400000
SUMMARY:RLSO Mä.: TSV Grafing II - SVS Türkheim
CLASS:PUBLIC
DTSTART:20210206T143000Z
DTSTAMP:20200821T082400Z
END:VEVENT
BEGIN:VEVENT
UID:260365-0b1cb5f82de24c98f11e829bddb1f0f9
X-WR-RELCALID:260365-0b1cb5f82de24c98f11e829bddb1f0f9
ORGANIZER:Volleyball
SEQUENCE:261101457
LOCATION:Jahnsporthalle, Kapellenstraße 17, 85567 Grafing
GEO:48.05019000000000000000;11.97310081481930400000
SUMMARY:RLSO Mä.: TSV Grafing II - SC Freising
CLASS:PUBLIC
DTSTART:20210220T143000Z
DTSTAMP:20200821T083200Z
END:VEVENT
BEGIN:VEVENT
UID:260383-0b1cb5f82de24c98f11e829bddb1f0f9
X-WR-RELCALID:260383-0b1cb5f82de24c98f11e829bddb1f0f9
ORGANIZER:Volleyball
SEQUENCE:261101457
LOCATION:Jahnsporthalle, Kapellenstraße 17, 85567 Grafing
GEO:48.05019000000000000000;11.97310081481930400000
SUMMARY:RLSO Mä.: TSV Grafing II - SV Schwaig II
CLASS:PUBLIC
DTSTART:20210313T143000Z
DTSTAMP:20200821T083500Z
END:VEVENT
BEGIN:VEVENT
UID:260282-0b1cb5f82de24c98f11e829bddb1f0f9
X-WR-RELCALID:260282-0b1cb5f82de24c98f11e829bddb1f0f9
ORGANIZER:Volleyball
SEQUENCE:261101457
LOCATION:Jahnsporthalle, Kapellenstraße 17, 85567 Grafing
GEO:48.05019000000000000000;11.97310081481930400000
SUMMARY:RLSO Mä.: TSV Grafing II - SV Esting
CLASS:PUBLIC
DTSTART;VALUE=DATE:20210322
DTSTAMP:20201029T145100Z
DTEND;VALUE=DATE:20210323
END:VEVENT
END:VCALENDAR