BEGIN:VCALENDAR
VERSION:2.0
PRODID:VSD-Portal-www.volley.de
METHOD:PUBLISH
BEGIN:VEVENT
UID:260388-0b1cb5f82de24c98f11e829bddb1f0f9
X-WR-RELCALID:260388-0b1cb5f82de24c98f11e829bddb1f0f9
ORGANIZER:Volleyball
SEQUENCE:261102110
LOCATION:Georg-Scherer-Halle, Gröbenrieder Str. 21, 85221 Dachau
GEO:48.24483000000000000000;11.43601000000000000000
SUMMARY:RLSO Mä.: ASV Dachau II - SV Esting
CLASS:PUBLIC
DTSTART:20210314T150000Z
DTSTAMP:20200821T083500Z
END:VEVENT
END:VCALENDAR