BEGIN:VCALENDAR
VERSION:2.0
PRODID:VSD-Portal-www.volley.de
METHOD:PUBLISH
BEGIN:VEVENT
UID:260385-0b1cb5f82de24c98f11e829bddb1f0f9
X-WR-RELCALID:260385-0b1cb5f82de24c98f11e829bddb1f0f9
ORGANIZER:Volleyball
SEQUENCE:261101934
LOCATION:Schulturnhalle, Moosstr. 46, 85356 Freising
GEO:48.39261200000000000000;11.76468300000000000000
SUMMARY:RLSO Mä.: SC Freising - TB/ASV Regenstauf
CLASS:PUBLIC
DTSTART:20210313T173000Z
DTSTAMP:20200821T083500Z
END:VEVENT
END:VCALENDAR