BEGIN:VCALENDAR
VERSION:2.0
PRODID:VSD-Portal-www.volley.de
METHOD:PUBLISH
BEGIN:VEVENT
UID:260378-0b1cb5f82de24c98f11e829bddb1f0f9
X-WR-RELCALID:260378-0b1cb5f82de24c98f11e829bddb1f0f9
ORGANIZER:Volleyball
SEQUENCE:261102301
LOCATION:Mittelschule, Oberjägerstr. 7, 86842 Türkheim
GEO:48.05950000000000000000;10.64302000000000000000
SUMMARY:RLSO Mä.: SVS Türkheim - TB/ASV Regenstauf
CLASS:PUBLIC
DTSTART:20210306T180000Z
DTSTAMP:20200821T083200Z
END:VEVENT
END:VCALENDAR