BEGIN:VCALENDAR
VERSION:2.0
PRODID:VSD-Portal-www.volley.de
METHOD:PUBLISH
BEGIN:VEVENT
UID:260374-0b1cb5f82de24c98f11e829bddb1f0f9
X-WR-RELCALID:260374-0b1cb5f82de24c98f11e829bddb1f0f9
ORGANIZER:Volleyball
SEQUENCE:261102305
LOCATION:Mehrzweckhalle, Schloßstraße 21, 82140 Esting
GEO:48.20967000000000000000;11.31607000000000000000
SUMMARY:RLSO Mä.: SV Esting - TB/ASV Regenstauf
CLASS:PUBLIC
DTSTART:20210228T120000Z
DTSTAMP:20200821T083200Z
END:VEVENT
END:VCALENDAR