BEGIN:VCALENDAR
VERSION:2.0
PRODID:VSD-Portal-www.volley.de
METHOD:PUBLISH
BEGIN:VEVENT
UID:260369-0b1cb5f82de24c98f11e829bddb1f0f9
X-WR-RELCALID:260369-0b1cb5f82de24c98f11e829bddb1f0f9
ORGANIZER:Volleyball
SEQUENCE:261102113
LOCATION:Dreifachturnhalle der Realschule, Hauzensteiner Str. 54, 9312
 8 Regenstauf
GEO:49.11862475644951000000;12.13799885452272000000
SUMMARY:RLSO Mä.: TB/ASV Regenstauf - TSV Dinkelsbühl
CLASS:PUBLIC
DTSTART:20210221T143000Z
DTSTAMP:20200821T083200Z
END:VEVENT
END:VCALENDAR