BEGIN:VCALENDAR
VERSION:2.0
PRODID:VSD-Portal-www.volley.de
METHOD:PUBLISH
BEGIN:VEVENT
UID:260367-0b1cb5f82de24c98f11e829bddb1f0f9
X-WR-RELCALID:260367-0b1cb5f82de24c98f11e829bddb1f0f9
ORGANIZER:Volleyball
SEQUENCE:261102106
LOCATION:Nelson Mandela Berufsoberschule München, Schleißheimerstraße 
 510, 80937 München
GEO:48.21373155837929400000;11.56378014680478800000
SUMMARY:RLSO Mä.: FTM Schwabing - SVS Türkheim
CLASS:PUBLIC
DTSTART:20210220T190000Z
DTSTAMP:20200821T083200Z
END:VEVENT
END:VCALENDAR