BEGIN:VCALENDAR
VERSION:2.0
PRODID:VSD-Portal-www.volley.de
METHOD:PUBLISH
BEGIN:VEVENT
UID:260360-0b1cb5f82de24c98f11e829bddb1f0f9
X-WR-RELCALID:260360-0b1cb5f82de24c98f11e829bddb1f0f9
ORGANIZER:Volleyball
SEQUENCE:261101937
LOCATION:Hans-Simon-Halle, Mittelbügweg 11, 90571 Schwaig
GEO:49.47545242309570000000;11.20260715484619100000
SUMMARY:RLSO Mä.: SV Schwaig II - TSV Dinkelsbühl
CLASS:PUBLIC
DTSTART:20210213T140000Z
DTSTAMP:20200821T082400Z
END:VEVENT
END:VCALENDAR