BEGIN:VCALENDAR
VERSION:2.0
PRODID:VSD-Portal-www.volley.de
METHOD:PUBLISH
BEGIN:VEVENT
UID:260350-0b1cb5f82de24c98f11e829bddb1f0f9
X-WR-RELCALID:260350-0b1cb5f82de24c98f11e829bddb1f0f9
ORGANIZER:Volleyball
SEQUENCE:261102306
LOCATION:Nelson Mandela Berufsoberschule München, Schleißheimerstraße 
 510, 80937 München
GEO:48.21373155837929400000;11.56378014680478800000
SUMMARY:RLSO Mä.: FTM Schwabing - SV Esting
CLASS:PUBLIC
DTSTART:20210131T140000Z
DTSTAMP:20200821T082400Z
END:VEVENT
END:VCALENDAR