BEGIN:VCALENDAR
VERSION:2.0
PRODID:VSD-Portal-www.volley.de
METHOD:PUBLISH
BEGIN:VEVENT
UID:260346-0b1cb5f82de24c98f11e829bddb1f0f9
X-WR-RELCALID:260346-0b1cb5f82de24c98f11e829bddb1f0f9
ORGANIZER:Volleyball
SEQUENCE:261102112
LOCATION:Mittelschule, Oberjägerstr. 7, 86842 Türkheim
GEO:48.05950000000000000000;10.64302000000000000000
SUMMARY:RLSO Mä.: SVS Türkheim - SV Esting
CLASS:PUBLIC
DTSTART:20210123T180000Z
DTSTAMP:20200821T082400Z
END:VEVENT
END:VCALENDAR