BEGIN:VCALENDAR
VERSION:2.0
PRODID:VSD-Portal-www.volley.de
METHOD:PUBLISH
BEGIN:VEVENT
UID:260341-0b1cb5f82de24c98f11e829bddb1f0f9
X-WR-RELCALID:260341-0b1cb5f82de24c98f11e829bddb1f0f9
ORGANIZER:Volleyball
SEQUENCE:261102108
LOCATION:3-fach Halle, Ulmer Weg, 91550 Dinkelsbühl
GEO:49.06546570511544000000;10.31566272750853800000
SUMMARY:RLSO Mä.: TSV Dinkelsbühl - ASV Dachau II
CLASS:PUBLIC
DTSTART:20210116T183000Z
DTSTAMP:20200821T081700Z
END:VEVENT
END:VCALENDAR