BEGIN:VCALENDAR
VERSION:2.0
PRODID:VSD-Portal-www.volley.de
METHOD:PUBLISH
BEGIN:VEVENT
UID:260330-0b1cb5f82de24c98f11e829bddb1f0f9
X-WR-RELCALID:260330-0b1cb5f82de24c98f11e829bddb1f0f9
ORGANIZER:Volleyball
SEQUENCE:261102109
LOCATION:Dreifachturnhalle der Realschule, Hauzensteiner Str. 54, 9312
 8 Regenstauf
GEO:49.11862475644951000000;12.13799885452272000000
SUMMARY:RLSO Mä.: TB/ASV Regenstauf - SC Freising
CLASS:PUBLIC
DTSTART:20201206T143000Z
DTSTAMP:20200821T081700Z
END:VEVENT
END:VCALENDAR