BEGIN:VCALENDAR
VERSION:2.0
PRODID:VSD-Portal-www.volley.de
METHOD:PUBLISH
BEGIN:VEVENT
UID:260321-0b1cb5f82de24c98f11e829bddb1f0f9
X-WR-RELCALID:260321-0b1cb5f82de24c98f11e829bddb1f0f9
ORGANIZER:Volleyball
SEQUENCE:261101938
LOCATION:Luitpoldschule, Luitpoldstr. 1, 92224 Amberg
GEO:49.44139766636949000000;11.85353189682007300000
SUMMARY:RLSO Mä.: VC Amberg - ASV Dachau II
CLASS:PUBLIC
DTSTART:20201122T150000Z
DTSTAMP:20200821T080800Z
END:VEVENT
END:VCALENDAR