BEGIN:VCALENDAR
VERSION:2.0
PRODID:VSD-Portal-www.volley.de
METHOD:PUBLISH
BEGIN:VEVENT
UID:256690-0b1cb5f82de24c98f11e829bddb1f0f9
X-WR-RELCALID:256690-0b1cb5f82de24c98f11e829bddb1f0f9
ORGANIZER:Volleyball
SEQUENCE:261091809
LOCATION:Dreifachturnhalle der Realschule, Hauzensteiner Str. 54, 9312
 8 Regenstauf
GEO:49.11862475644951000000;12.13799885452272000000
SUMMARY:RLSO Fr.: TB/ASV Regenstauf - SV Hahnbach
CLASS:PUBLIC
DTSTART:20210206T150000Z
DTSTAMP:20200730T070500Z
END:VEVENT
END:VCALENDAR