BEGIN:VCALENDAR
VERSION:2.0
PRODID:VSD-Portal-www.volley.de
METHOD:PUBLISH
BEGIN:VEVENT
UID:256685-0b1cb5f82de24c98f11e829bddb1f0f9
X-WR-RELCALID:256685-0b1cb5f82de24c98f11e829bddb1f0f9
ORGANIZER:Volleyball
SEQUENCE:261092321
LOCATION:Josef-Graf-Halle, Max-Prechtl-Str. 8, 92256 Hahnbach
GEO:49.53322000000000000000;11.80589000000000000000
SUMMARY:RLSO Fr.: SV Hahnbach - SV Lohhof II
CLASS:PUBLIC
DTSTART:20210124T140000Z
DTSTAMP:20200730T070500Z
END:VEVENT
END:VCALENDAR