BEGIN:VCALENDAR
VERSION:2.0
PRODID:VSD-Portal-www.volley.de
METHOD:PUBLISH
BEGIN:VEVENT
UID:256658-0b1cb5f82de24c98f11e829bddb1f0f9
X-WR-RELCALID:256658-0b1cb5f82de24c98f11e829bddb1f0f9
ORGANIZER:Volleyball
SEQUENCE:261100110
LOCATION:Leonhard Wagner Hallen Schwabmünchen, Breitweg 16, 86830 Schw
 abmünchen
GEO:48.18404788146183000000;10.76780576721194000000
SUMMARY:RLSO Fr.: FC Kleinaitingen - SV Hahnbach
CLASS:PUBLIC
DTSTART:20201121T130000Z
DTSTAMP:20200730T064700Z
END:VEVENT
END:VCALENDAR