BEGIN:VCALENDAR
VERSION:2.0
PRODID:VSD-Portal-www.volley.de
METHOD:PUBLISH
BEGIN:VEVENT
UID:256657-0b1cb5f82de24c98f11e829bddb1f0f9
X-WR-RELCALID:256657-0b1cb5f82de24c98f11e829bddb1f0f9
ORGANIZER:Volleyball
SEQUENCE:261100108
LOCATION:Jahnhalle, Jahnstr. 2, 90513 Zirndorf
GEO:49.44118285254261000000;10.96672366798407000000
SUMMARY:RLSO Fr.: TSV Zirndorf - SV Hahnbach
CLASS:PUBLIC
DTSTART:20201115T150000Z
DTSTAMP:20200730T064700Z
END:VEVENT
END:VCALENDAR