BEGIN:VCALENDAR
VERSION:2.0
PRODID:VSD-Portal-www.volley.de
METHOD:PUBLISH
BEGIN:VEVENT
UID:234708-2da69939ed67427dc6bf3daba21059e9
X-WR-RELCALID:234708-2da69939ed67427dc6bf3daba21059e9
ORGANIZER:Volleyball
SEQUENCE:261130050
SUMMARY:B3 Mä.: SV Remshalden 3 - SV 1845 Esslingen 4
CLASS:PUBLIC
DTSTART:20091017T130000Z
DTSTAMP:20140607T181900Z
END:VEVENT
BEGIN:VEVENT
UID:234703-2da69939ed67427dc6bf3daba21059e9
X-WR-RELCALID:234703-2da69939ed67427dc6bf3daba21059e9
ORGANIZER:Volleyball
SEQUENCE:261130050
SUMMARY:B3 Mä.: SV 1845 Esslingen 4 - TV Stetten/R.
CLASS:PUBLIC
DTSTART:20091031T130000Z
DTSTAMP:20140607T181900Z
END:VEVENT
BEGIN:VEVENT
UID:234702-2da69939ed67427dc6bf3daba21059e9
X-WR-RELCALID:234702-2da69939ed67427dc6bf3daba21059e9
ORGANIZER:Volleyball
SEQUENCE:261130050
SUMMARY:B3 Mä.: SV 1845 Esslingen 4 - SG Schorndorf 2
CLASS:PUBLIC
DTSTART:20091031T130000Z
DTSTAMP:20140607T181900Z
END:VEVENT
BEGIN:VEVENT
UID:234701-2da69939ed67427dc6bf3daba21059e9
X-WR-RELCALID:234701-2da69939ed67427dc6bf3daba21059e9
ORGANIZER:Volleyball
SEQUENCE:261130050
SUMMARY:B3 Mä.: SV 1845 Esslingen 4 - TG Donzdorf
CLASS:PUBLIC
DTSTART:20091114T130000Z
DTSTAMP:20140607T181900Z
END:VEVENT
BEGIN:VEVENT
UID:234698-2da69939ed67427dc6bf3daba21059e9
X-WR-RELCALID:234698-2da69939ed67427dc6bf3daba21059e9
ORGANIZER:Volleyball
SEQUENCE:261130050
SUMMARY:B3 Mä.: SV 1845 Esslingen 4 - TSV Mutlangen 2
CLASS:PUBLIC
DTSTART:20091114T130000Z
DTSTAMP:20140607T181900Z
END:VEVENT
BEGIN:VEVENT
UID:234687-2da69939ed67427dc6bf3daba21059e9
X-WR-RELCALID:234687-2da69939ed67427dc6bf3daba21059e9
ORGANIZER:Volleyball
SEQUENCE:261130050
SUMMARY:B3 Mä.: TV Stetten/R. - SV 1845 Esslingen 4
CLASS:PUBLIC
DTSTART:20100131T100000Z
DTSTAMP:20140607T181900Z
END:VEVENT
BEGIN:VEVENT
UID:234685-2da69939ed67427dc6bf3daba21059e9
X-WR-RELCALID:234685-2da69939ed67427dc6bf3daba21059e9
ORGANIZER:Volleyball
SEQUENCE:261130050
SUMMARY:B3 Mä.: SV 1845 Esslingen 4 - TSV Böbingen 2
CLASS:PUBLIC
DTSTART:20100213T130000Z
DTSTAMP:20140607T181900Z
END:VEVENT
BEGIN:VEVENT
UID:234684-2da69939ed67427dc6bf3daba21059e9
X-WR-RELCALID:234684-2da69939ed67427dc6bf3daba21059e9
ORGANIZER:Volleyball
SEQUENCE:261130050
SUMMARY:B3 Mä.: SV 1845 Esslingen 4 - SV Remshalden 3
CLASS:PUBLIC
DTSTART:20100213T130000Z
DTSTAMP:20140607T181900Z
END:VEVENT
BEGIN:VEVENT
UID:234682-2da69939ed67427dc6bf3daba21059e9
X-WR-RELCALID:234682-2da69939ed67427dc6bf3daba21059e9
ORGANIZER:Volleyball
SEQUENCE:261130050
SUMMARY:B3 Mä.: TSV Mutlangen 2 - SV 1845 Esslingen 4
CLASS:PUBLIC
DTSTART:20100228T100000Z
DTSTAMP:20140607T181900Z
END:VEVENT
BEGIN:VEVENT
UID:234676-2da69939ed67427dc6bf3daba21059e9
X-WR-RELCALID:234676-2da69939ed67427dc6bf3daba21059e9
ORGANIZER:Volleyball
SEQUENCE:261130050
SUMMARY:B3 Mä.: TG Donzdorf - SV 1845 Esslingen 4
CLASS:PUBLIC
DTSTART:20100314T130000Z
DTSTAMP:20140607T181900Z
END:VEVENT
BEGIN:VEVENT
UID:234697-2da69939ed67427dc6bf3daba21059e9
X-WR-RELCALID:234697-2da69939ed67427dc6bf3daba21059e9
ORGANIZER:Volleyball
SEQUENCE:261130050
SUMMARY:B3 Mä.: TSV Böbingen 2 - SV 1845 Esslingen 4
CLASS:PUBLIC
DTSTART:20100317T200000Z
DTSTAMP:20140607T181900Z
END:VEVENT
BEGIN:VEVENT
UID:234674-2da69939ed67427dc6bf3daba21059e9
X-WR-RELCALID:234674-2da69939ed67427dc6bf3daba21059e9
ORGANIZER:Volleyball
SEQUENCE:261130050
SUMMARY:B3 Mä.: SG Schorndorf 2 - SV 1845 Esslingen 4
CLASS:PUBLIC
DTSTART:20100327T140000Z
DTSTAMP:20140607T181900Z
END:VEVENT
END:VCALENDAR