BEGIN:VCALENDAR
VERSION:2.0
PRODID:VSD-Portal-www.volley.de
METHOD:PUBLISH
BEGIN:VEVENT
UID:222978-0b1cb5f82de24c98f11e829bddb1f0f9
X-WR-RELCALID:222978-0b1cb5f82de24c98f11e829bddb1f0f9
ORGANIZER:Volleyball
SEQUENCE:261142043
SUMMARY:BJP U20 w: SSV Schrobenhausen - TSV Unterhaching
CLASS:PUBLIC
DTSTART;VALUE=DATE:20190505
DTSTAMP:20190507T114600Z
DTEND;VALUE=DATE:20190506
END:VEVENT
BEGIN:VEVENT
UID:222979-0b1cb5f82de24c98f11e829bddb1f0f9
X-WR-RELCALID:222979-0b1cb5f82de24c98f11e829bddb1f0f9
ORGANIZER:Volleyball
SEQUENCE:261142043
SUMMARY:BJP U20 w: TSV Winhöring - SC Oberweikertshofen
CLASS:PUBLIC
DTSTART;VALUE=DATE:20190505
DTSTAMP:20190507T114600Z
DTEND;VALUE=DATE:20190506
END:VEVENT
BEGIN:VEVENT
UID:222980-0b1cb5f82de24c98f11e829bddb1f0f9
X-WR-RELCALID:222980-0b1cb5f82de24c98f11e829bddb1f0f9
ORGANIZER:Volleyball
SEQUENCE:261142043
SUMMARY:BJP U20 w: SSV Schrobenhausen - SC Oberweikertshofen
CLASS:PUBLIC
DTSTART;VALUE=DATE:20190505
DTSTAMP:20190507T114600Z
DTEND;VALUE=DATE:20190506
END:VEVENT
BEGIN:VEVENT
UID:222981-0b1cb5f82de24c98f11e829bddb1f0f9
X-WR-RELCALID:222981-0b1cb5f82de24c98f11e829bddb1f0f9
ORGANIZER:Volleyball
SEQUENCE:261142043
SUMMARY:BJP U20 w: TSV Winhöring - TSV Unterhaching
CLASS:PUBLIC
DTSTART;VALUE=DATE:20190505
DTSTAMP:20190507T114600Z
DTEND;VALUE=DATE:20190506
END:VEVENT
BEGIN:VEVENT
UID:222982-0b1cb5f82de24c98f11e829bddb1f0f9
X-WR-RELCALID:222982-0b1cb5f82de24c98f11e829bddb1f0f9
ORGANIZER:Volleyball
SEQUENCE:261142043
SUMMARY:BJP U20 w: SSV Schrobenhausen - TSV Winhöring
CLASS:PUBLIC
DTSTART;VALUE=DATE:20190505
DTSTAMP:20190507T114600Z
DTEND;VALUE=DATE:20190506
END:VEVENT
BEGIN:VEVENT
UID:222983-0b1cb5f82de24c98f11e829bddb1f0f9
X-WR-RELCALID:222983-0b1cb5f82de24c98f11e829bddb1f0f9
ORGANIZER:Volleyball
SEQUENCE:261142043
SUMMARY:BJP U20 w: SC Oberweikertshofen - TSV Unterhaching
CLASS:PUBLIC
DTSTART;VALUE=DATE:20190505
DTSTAMP:20190507T114700Z
DTEND;VALUE=DATE:20190506
END:VEVENT
END:VCALENDAR