BEGIN:VCALENDAR
VERSION:2.0
PRODID:VSD-Portal-www.volley.de
METHOD:PUBLISH
BEGIN:VEVENT
UID:222111-0b1cb5f82de24c98f11e829bddb1f0f9
X-WR-RELCALID:222111-0b1cb5f82de24c98f11e829bddb1f0f9
ORGANIZER:Volleyball
SEQUENCE:261111740
LOCATION:Berufsschulhalle, Töginger Str. 41, 84453 Mühldorf
GEO:48.24575400000000000000;12.52996300000000000000
SUMMARY:OBB-MS U13 m: TSV Tutzing - TSV Winhöring
CLASS:PUBLIC
DTSTART;VALUE=DATE:20190224
DTSTAMP:20190224T105100Z
DTEND;VALUE=DATE:20190225
END:VEVENT
END:VCALENDAR