BEGIN:VCALENDAR
VERSION:2.0
PRODID:VSD-Portal-www.volley.de
METHOD:PUBLISH
BEGIN:VEVENT
UID:202685-0b1cb5f82de24c98f11e829bddb1f0f9
X-WR-RELCALID:202685-0b1cb5f82de24c98f11e829bddb1f0f9
ORGANIZER:Volleyball
SEQUENCE:261110148
LOCATION:VfL-Halle, Veldener Str. 90, 84036 Landshut
GEO:48.51625000000000000000;12.15209000000000000000
SUMMARY:U20/18BZL w: FTSV Straubing U18 II - TG-VfL Landshut U20
CLASS:PUBLIC
DTSTART:20180930T080000Z
DTSTAMP:20181017T145000Z
END:VEVENT
BEGIN:VEVENT
UID:202686-0b1cb5f82de24c98f11e829bddb1f0f9
X-WR-RELCALID:202686-0b1cb5f82de24c98f11e829bddb1f0f9
ORGANIZER:Volleyball
SEQUENCE:261110148
LOCATION:VfL-Halle, Veldener Str. 90, 84036 Landshut
GEO:48.51625000000000000000;12.15209000000000000000
SUMMARY:U20/18BZL w: FTSV Straubing U18 II - TSV Waldkirchen U20
CLASS:PUBLIC
DTSTART:20180930T080000Z
DTSTAMP:20181017T144300Z
END:VEVENT
BEGIN:VEVENT
UID:202690-0b1cb5f82de24c98f11e829bddb1f0f9
X-WR-RELCALID:202690-0b1cb5f82de24c98f11e829bddb1f0f9
ORGANIZER:Volleyball
SEQUENCE:261110148
LOCATION:Mittelschule St. Josef, Von-Leistner-Str. 40, 94315 Straubing
 
GEO:48.87346370013809000000;12.56861396560667600000
SUMMARY:U20/18BZL w: FTSV Straubing U18 II - TG-VfL Landshut U18
CLASS:PUBLIC
DTSTART:20181118T090000Z
DTSTAMP:20181128T200500Z
END:VEVENT
BEGIN:VEVENT
UID:202691-0b1cb5f82de24c98f11e829bddb1f0f9
X-WR-RELCALID:202691-0b1cb5f82de24c98f11e829bddb1f0f9
ORGANIZER:Volleyball
SEQUENCE:261110148
LOCATION:Mittelschule St. Josef, Von-Leistner-Str. 40, 94315 Straubing
 
GEO:48.87346370013809000000;12.56861396560667600000
SUMMARY:U20/18BZL w: FTSV Straubing U18 II - TV Dingolfing U18
CLASS:PUBLIC
DTSTART:20181118T090000Z
DTSTAMP:20181128T200500Z
END:VEVENT
BEGIN:VEVENT
UID:202696-0b1cb5f82de24c98f11e829bddb1f0f9
X-WR-RELCALID:202696-0b1cb5f82de24c98f11e829bddb1f0f9
ORGANIZER:Volleyball
SEQUENCE:261110148
LOCATION:Berufsschulhalle, Freyungerstraße 8, 94065 Waldkirchen
GEO:48.73373223701856500000;13.60539351058957900000
SUMMARY:U20/18BZL w: TSV Waldkirchen U20 - FTSV Straubing U18 II
CLASS:PUBLIC
DTSTART:20181216T090000Z
DTSTAMP:20181221T063400Z
END:VEVENT
BEGIN:VEVENT
UID:202698-0b1cb5f82de24c98f11e829bddb1f0f9
X-WR-RELCALID:202698-0b1cb5f82de24c98f11e829bddb1f0f9
ORGANIZER:Volleyball
SEQUENCE:261110148
LOCATION:Berufsschulhalle, Freyungerstraße 8, 94065 Waldkirchen
GEO:48.73373223701856500000;13.60539351058957900000
SUMMARY:U20/18BZL w: FTSV Straubing U18 II - TG-VfL Landshut U18
CLASS:PUBLIC
DTSTART:20181216T090000Z
DTSTAMP:20181221T063400Z
END:VEVENT
BEGIN:VEVENT
UID:202699-0b1cb5f82de24c98f11e829bddb1f0f9
X-WR-RELCALID:202699-0b1cb5f82de24c98f11e829bddb1f0f9
ORGANIZER:Volleyball
SEQUENCE:261110148
LOCATION:Realschule (Hans-Glas-Halle), Dr. Josef-Hastreiter-Str. 20 , 
 84130 Dingolfing
GEO:48.63133000000000000000;12.50364300000000000000
SUMMARY:U20/18BZL w: TV Dingolfing U18 - FTSV Straubing U18 II
CLASS:PUBLIC
DTSTART:20190120T090000Z
DTSTAMP:20190324T180800Z
END:VEVENT
BEGIN:VEVENT
UID:202701-0b1cb5f82de24c98f11e829bddb1f0f9
X-WR-RELCALID:202701-0b1cb5f82de24c98f11e829bddb1f0f9
ORGANIZER:Volleyball
SEQUENCE:261110148
LOCATION:Realschule (Hans-Glas-Halle), Dr. Josef-Hastreiter-Str. 20 , 
 84130 Dingolfing
GEO:48.63133000000000000000;12.50364300000000000000
SUMMARY:U20/18BZL w: TG-VfL Landshut U20 - FTSV Straubing U18 II
CLASS:PUBLIC
DTSTART:20190120T090000Z
DTSTAMP:20190324T180800Z
END:VEVENT
END:VCALENDAR