BEGIN:VCALENDAR
VERSION:2.0
PRODID:VSD-Portal-www.volley.de
METHOD:PUBLISH
BEGIN:VEVENT
UID:202757-0b1cb5f82de24c98f11e829bddb1f0f9
X-WR-RELCALID:202757-0b1cb5f82de24c98f11e829bddb1f0f9
ORGANIZER:Volleyball
SEQUENCE:261102349
LOCATION:Bürgermeister-Daffner Sporthalle, Schulstraße 1, 84183 Nieder
 viehbach
GEO:48.61819807316950000000;12.38141929367066000000
SUMMARY:U20 BZL m: TSV Niederviehbach - TV Hauzenberg
CLASS:PUBLIC
DTSTART:20181104T090000Z
DTSTAMP:20181217T160900Z
END:VEVENT
BEGIN:VEVENT
UID:202759-0b1cb5f82de24c98f11e829bddb1f0f9
X-WR-RELCALID:202759-0b1cb5f82de24c98f11e829bddb1f0f9
ORGANIZER:Volleyball
SEQUENCE:261102349
LOCATION:Bürgermeister-Daffner Sporthalle, Schulstraße 1, 84183 Nieder
 viehbach
GEO:48.61819807316950000000;12.38141929367066000000
SUMMARY:U20 BZL m: TV Hauzenberg - TV Viechtach
CLASS:PUBLIC
DTSTART:20181104T090000Z
DTSTAMP:20181217T161100Z
END:VEVENT
BEGIN:VEVENT
UID:202761-0b1cb5f82de24c98f11e829bddb1f0f9
X-WR-RELCALID:202761-0b1cb5f82de24c98f11e829bddb1f0f9
ORGANIZER:Volleyball
SEQUENCE:261102349
LOCATION:Dreifachhalle, Jahnstr. 38, 94234 Viechtach
GEO:49.07335315755755500000;12.88302096427918000000
SUMMARY:U20 BZL m: TV Viechtach - TV Hauzenberg
CLASS:PUBLIC
DTSTART:20190127T090000Z
DTSTAMP:20190130T170700Z
END:VEVENT
BEGIN:VEVENT
UID:202762-0b1cb5f82de24c98f11e829bddb1f0f9
X-WR-RELCALID:202762-0b1cb5f82de24c98f11e829bddb1f0f9
ORGANIZER:Volleyball
SEQUENCE:261102349
LOCATION:Dreifachhalle, Jahnstr. 38, 94234 Viechtach
GEO:49.07335315755755500000;12.88302096427918000000
SUMMARY:U20 BZL m: TSV Niederviehbach - TV Hauzenberg
CLASS:PUBLIC
DTSTART:20190127T090000Z
DTSTAMP:20190130T170800Z
END:VEVENT
END:VCALENDAR