BEGIN:VCALENDAR
VERSION:2.0
PRODID:VSD-Portal-www.volley.de
METHOD:PUBLISH
BEGIN:VEVENT
UID:199837-0b1cb5f82de24c98f11e829bddb1f0f9
X-WR-RELCALID:199837-0b1cb5f82de24c98f11e829bddb1f0f9
ORGANIZER:Volleyball
SEQUENCE:261122000
LOCATION:Gymnasiumhalle, Schulstraße 2, 94065 Waldkirchen
GEO:48.72788000000000000000;13.60700000000000000000
SUMMARY:BZL Fr.: TSV Waldkirchen - TV Dingolfing III
CLASS:PUBLIC
DTSTART:20181201T130000Z
DTSTAMP:20181205T185000Z
END:VEVENT
BEGIN:VEVENT
UID:199838-0b1cb5f82de24c98f11e829bddb1f0f9
X-WR-RELCALID:199838-0b1cb5f82de24c98f11e829bddb1f0f9
ORGANIZER:Volleyball
SEQUENCE:261122000
LOCATION:Gymnasiumhalle, Schulstraße 2, 94065 Waldkirchen
GEO:48.72788000000000000000;13.60700000000000000000
SUMMARY:BZL Fr.: TSV Waldkirchen - TSV Schönberg
CLASS:PUBLIC
DTSTART:20181201T130000Z
DTSTAMP:20181205T185200Z
END:VEVENT
BEGIN:VEVENT
UID:199867-0b1cb5f82de24c98f11e829bddb1f0f9
X-WR-RELCALID:199867-0b1cb5f82de24c98f11e829bddb1f0f9
ORGANIZER:Volleyball
SEQUENCE:261122000
LOCATION:Gymnasiumhalle, Schulstraße 2, 94065 Waldkirchen
GEO:48.72788000000000000000;13.60700000000000000000
SUMMARY:BZL Fr.: TSV Waldkirchen - TSV Niederviehbach II
CLASS:PUBLIC
DTSTART:20190209T130000Z
DTSTAMP:20190214T145200Z
END:VEVENT
BEGIN:VEVENT
UID:199868-0b1cb5f82de24c98f11e829bddb1f0f9
X-WR-RELCALID:199868-0b1cb5f82de24c98f11e829bddb1f0f9
ORGANIZER:Volleyball
SEQUENCE:261122000
LOCATION:Gymnasiumhalle, Schulstraße 2, 94065 Waldkirchen
GEO:48.72788000000000000000;13.60700000000000000000
SUMMARY:BZL Fr.: TSV Waldkirchen - FTSV Straubing III
CLASS:PUBLIC
DTSTART:20190209T130000Z
DTSTAMP:20190214T145300Z
END:VEVENT
BEGIN:VEVENT
UID:199888-0b1cb5f82de24c98f11e829bddb1f0f9
X-WR-RELCALID:199888-0b1cb5f82de24c98f11e829bddb1f0f9
ORGANIZER:Volleyball
SEQUENCE:261122000
LOCATION:Gymnasiumhalle, Schulstraße 2, 94065 Waldkirchen
GEO:48.72788000000000000000;13.60700000000000000000
SUMMARY:BZL Fr.: TSV Waldkirchen - SG Saldenburg
CLASS:PUBLIC
DTSTART:20190323T130000Z
DTSTAMP:20190327T073500Z
END:VEVENT
END:VCALENDAR