BEGIN:VCALENDAR
VERSION:2.0
PRODID:VSD-Portal-www.volley.de
METHOD:PUBLISH
BEGIN:VEVENT
UID:208393-0b1cb5f82de24c98f11e829bddb1f0f9
X-WR-RELCALID:208393-0b1cb5f82de24c98f11e829bddb1f0f9
ORGANIZER:Volleyball
SEQUENCE:261100433
LOCATION:Sportzentrum Feggrube, Heiner-Dikreiter-Weg 1, 97074 Würzburg
 
GEO:49.77150203029854000000;9.94420064550786200000
SUMMARY:LLNW Fr.: TG Würzburg - TSV Lengfeld
CLASS:PUBLIC
DTSTART:20181020T110000Z
DTSTAMP:20181024T101400Z
END:VEVENT
BEGIN:VEVENT
UID:208394-0b1cb5f82de24c98f11e829bddb1f0f9
X-WR-RELCALID:208394-0b1cb5f82de24c98f11e829bddb1f0f9
ORGANIZER:Volleyball
SEQUENCE:261100433
LOCATION:Sportzentrum Feggrube, Heiner-Dikreiter-Weg 1, 97074 Würzburg
 
GEO:49.77150203029854000000;9.94420064550786200000
SUMMARY:LLNW Fr.: TG Würzburg - SGS Erlangen
CLASS:PUBLIC
DTSTART:20181020T110000Z
DTSTAMP:20181024T101700Z
END:VEVENT
BEGIN:VEVENT
UID:208403-0b1cb5f82de24c98f11e829bddb1f0f9
X-WR-RELCALID:208403-0b1cb5f82de24c98f11e829bddb1f0f9
ORGANIZER:Volleyball
SEQUENCE:261100433
LOCATION:Sportzentrum Feggrube, Heiner-Dikreiter-Weg 1, 97074 Würzburg
 
GEO:49.77150203029854000000;9.94420064550786200000
SUMMARY:LLNW Fr.: TG Würzburg - TSV Röttingen
CLASS:PUBLIC
DTSTART:20181117T120000Z
DTSTAMP:20181121T131800Z
END:VEVENT
BEGIN:VEVENT
UID:208404-0b1cb5f82de24c98f11e829bddb1f0f9
X-WR-RELCALID:208404-0b1cb5f82de24c98f11e829bddb1f0f9
ORGANIZER:Volleyball
SEQUENCE:261100433
LOCATION:Sportzentrum Feggrube, Heiner-Dikreiter-Weg 1, 97074 Würzburg
 
GEO:49.77150203029854000000;9.94420064550786200000
SUMMARY:LLNW Fr.: TG Würzburg - TSV 1860 Weißenburg
CLASS:PUBLIC
DTSTART:20181117T120000Z
DTSTAMP:20181121T132000Z
END:VEVENT
BEGIN:VEVENT
UID:208425-0b1cb5f82de24c98f11e829bddb1f0f9
X-WR-RELCALID:208425-0b1cb5f82de24c98f11e829bddb1f0f9
ORGANIZER:Volleyball
SEQUENCE:261100433
LOCATION:Sportzentrum Feggrube, Heiner-Dikreiter-Weg 1, 97074 Würzburg
 
GEO:49.77150203029854000000;9.94420064550786200000
SUMMARY:LLNW Fr.: TG Würzburg - TV Großwelzheim
CLASS:PUBLIC
DTSTART:20190209T130000Z
DTSTAMP:20190213T124900Z
END:VEVENT
BEGIN:VEVENT
UID:208426-0b1cb5f82de24c98f11e829bddb1f0f9
X-WR-RELCALID:208426-0b1cb5f82de24c98f11e829bddb1f0f9
ORGANIZER:Volleyball
SEQUENCE:261100433
LOCATION:Sportzentrum Feggrube, Heiner-Dikreiter-Weg 1, 97074 Würzburg
 
GEO:49.77150203029854000000;9.94420064550786200000
SUMMARY:LLNW Fr.: TG Würzburg - SG Unterdürrbach/Waldbüttelbrunn
CLASS:PUBLIC
DTSTART:20190209T130000Z
DTSTAMP:20190213T125200Z
END:VEVENT
BEGIN:VEVENT
UID:208428-0b1cb5f82de24c98f11e829bddb1f0f9
X-WR-RELCALID:208428-0b1cb5f82de24c98f11e829bddb1f0f9
ORGANIZER:Volleyball
SEQUENCE:261100433
LOCATION:Sportzentrum Feggrube, Heiner-Dikreiter-Weg 1, 97074 Würzburg
 
GEO:49.77150203029854000000;9.94420064550786200000
SUMMARY:LLNW Fr.: TG Würzburg - TSV Röttingen
CLASS:PUBLIC
DTSTART:20190216T130000Z
DTSTAMP:20190220T133500Z
END:VEVENT
BEGIN:VEVENT
UID:208431-0b1cb5f82de24c98f11e829bddb1f0f9
X-WR-RELCALID:208431-0b1cb5f82de24c98f11e829bddb1f0f9
ORGANIZER:Volleyball
SEQUENCE:261100433
LOCATION:Sportzentrum Feggrube, Heiner-Dikreiter-Weg 1, 97074 Würzburg
 
GEO:49.77150203029854000000;9.94420064550786200000
SUMMARY:LLNW Fr.: TG Würzburg - FC Dombühl
CLASS:PUBLIC
DTSTART:20190216T130000Z
DTSTAMP:20190220T140100Z
END:VEVENT
END:VCALENDAR