BEGIN:VCALENDAR
VERSION:2.0
PRODID:VSD-Portal-www.volley.de
METHOD:PUBLISH
BEGIN:VEVENT
UID:208389-0b1cb5f82de24c98f11e829bddb1f0f9
X-WR-RELCALID:208389-0b1cb5f82de24c98f11e829bddb1f0f9
ORGANIZER:Volleyball
SEQUENCE:261111817
LOCATION:Siemens Sporthalle, Komotauer Straße 2-4, 91052 Erlangen
GEO:49.58154000000000000000;11.01380000000000000000
SUMMARY:LLNW Fr.: SGS Erlangen - TSV 1860 Weißenburg
CLASS:PUBLIC
DTSTART:20181006T120000Z
DTSTAMP:20181009T202500Z
END:VEVENT
BEGIN:VEVENT
UID:208390-0b1cb5f82de24c98f11e829bddb1f0f9
X-WR-RELCALID:208390-0b1cb5f82de24c98f11e829bddb1f0f9
ORGANIZER:Volleyball
SEQUENCE:261111817
LOCATION:Siemens Sporthalle, Komotauer Straße 2-4, 91052 Erlangen
GEO:49.58154000000000000000;11.01380000000000000000
SUMMARY:LLNW Fr.: SGS Erlangen - TV Großwelzheim
CLASS:PUBLIC
DTSTART:20181006T120000Z
DTSTAMP:20181009T202700Z
END:VEVENT
BEGIN:VEVENT
UID:208401-0b1cb5f82de24c98f11e829bddb1f0f9
X-WR-RELCALID:208401-0b1cb5f82de24c98f11e829bddb1f0f9
ORGANIZER:Volleyball
SEQUENCE:261111817
LOCATION:Siemens Sporthalle, Komotauer Straße 2-4, 91052 Erlangen
GEO:49.58154000000000000000;11.01380000000000000000
SUMMARY:LLNW Fr.: SGS Erlangen - SG Unterdürrbach/Waldbüttelbrunn
CLASS:PUBLIC
DTSTART:20181117T130000Z
DTSTAMP:20181121T131200Z
END:VEVENT
BEGIN:VEVENT
UID:208402-0b1cb5f82de24c98f11e829bddb1f0f9
X-WR-RELCALID:208402-0b1cb5f82de24c98f11e829bddb1f0f9
ORGANIZER:Volleyball
SEQUENCE:261111817
LOCATION:Siemens Sporthalle, Komotauer Straße 2-4, 91052 Erlangen
GEO:49.58154000000000000000;11.01380000000000000000
SUMMARY:LLNW Fr.: SGS Erlangen - FC Dombühl
CLASS:PUBLIC
DTSTART:20181117T130000Z
DTSTAMP:20181121T131700Z
END:VEVENT
BEGIN:VEVENT
UID:208415-0b1cb5f82de24c98f11e829bddb1f0f9
X-WR-RELCALID:208415-0b1cb5f82de24c98f11e829bddb1f0f9
ORGANIZER:Volleyball
SEQUENCE:261111817
LOCATION:Siemens Sporthalle, Komotauer Straße 2-4, 91052 Erlangen
GEO:49.58154000000000000000;11.01380000000000000000
SUMMARY:LLNW Fr.: SGS Erlangen - TG Würzburg
CLASS:PUBLIC
DTSTART:20190112T130000Z
DTSTAMP:20190116T131600Z
END:VEVENT
BEGIN:VEVENT
UID:208416-0b1cb5f82de24c98f11e829bddb1f0f9
X-WR-RELCALID:208416-0b1cb5f82de24c98f11e829bddb1f0f9
ORGANIZER:Volleyball
SEQUENCE:261111817
LOCATION:Siemens Sporthalle, Komotauer Straße 2-4, 91052 Erlangen
GEO:49.58154000000000000000;11.01380000000000000000
SUMMARY:LLNW Fr.: SGS Erlangen - TSV Lengfeld
CLASS:PUBLIC
DTSTART:20190112T130000Z
DTSTAMP:20190116T131800Z
END:VEVENT
END:VCALENDAR