BEGIN:VCALENDAR
VERSION:2.0
PRODID:VSD-Portal-www.volley.de
METHOD:PUBLISH
BEGIN:VEVENT
UID:742411-2da69939ed67427dc6bf3daba21059e9
X-WR-RELCALID:742411-2da69939ed67427dc6bf3daba21059e9
ORGANIZER:Volleyball
SEQUENCE:261101748
LOCATION:Sporthalle am Park, Parkstraße, 49835 Lohne
GEO:52.50003820000000000000;7.22932880000000000000
SUMMARY:VL 1 Mä.: SV Union Lohne - VfL Lintorf III
CLASS:PUBLIC
DTSTART:20260425T130000Z
DTSTAMP:20250816T112400Z
END:VEVENT
END:VCALENDAR