BEGIN:VCALENDAR
VERSION:2.0
PRODID:VSD-Portal-www.volley.de
METHOD:PUBLISH
BEGIN:VEVENT
UID:742399-2da69939ed67427dc6bf3daba21059e9
X-WR-RELCALID:742399-2da69939ed67427dc6bf3daba21059e9
ORGANIZER:Volleyball
SEQUENCE:261101747
LOCATION:Dominikanerklosterkolleg, Füchteler Str. 72, 49377 Vechta
GEO:52.73025770000000000000;8.30055560000000000000
SUMMARY:VL 1 Mä.: DJK Füchtel Vechta - VfL Lintorf II
CLASS:PUBLIC
DTSTART:20260425T130000Z
DTSTAMP:20250816T112400Z
END:VEVENT
END:VCALENDAR