BEGIN:VCALENDAR
VERSION:2.0
PRODID:VSD-Portal-www.volley.de
METHOD:PUBLISH
BEGIN:VEVENT
UID:742265-2da69939ed67427dc6bf3daba21059e9
X-WR-RELCALID:742265-2da69939ed67427dc6bf3daba21059e9
ORGANIZER:Volleyball
SEQUENCE:261151328
LOCATION:Sporthalle Schulzentrum Ofenerdiek, Lagerstraße 32, 26125 Old
 enburg
GEO:53.19172620000000000000;8.20814750000000000000
SUMMARY:OL 1 Mä.: SG Ofenerdiek/Ofen - VSG Ammerland II
CLASS:PUBLIC
DTSTART:20260425T120000Z
DTSTAMP:20250816T112400Z
END:VEVENT
END:VCALENDAR