BEGIN:VCALENDAR
VERSION:2.0
PRODID:VSD-Portal-www.volley.de
METHOD:PUBLISH
BEGIN:VEVENT
UID:741032-2da69939ed67427dc6bf3daba21059e9
X-WR-RELCALID:741032-2da69939ed67427dc6bf3daba21059e9
ORGANIZER:Volleyball
SEQUENCE:261131243
LOCATION:Gymnasium Salzgitter-Bad (Sporthalle), Am Eikel 22, 38259 Sal
 zgitter-Bad
GEO:52.05230000000000000000;10.37038000000000000000
SUMMARY:LL 8 Fr.: MTV Salzgitter - DJK Kolping Northeim
CLASS:PUBLIC
DTSTART:20250920T110000Z
DTSTAMP:20250816T112300Z
END:VEVENT
BEGIN:VEVENT
UID:741034-2da69939ed67427dc6bf3daba21059e9
X-WR-RELCALID:741034-2da69939ed67427dc6bf3daba21059e9
ORGANIZER:Volleyball
SEQUENCE:261131243
LOCATION:Gymnasium Salzgitter-Bad (Sporthalle), Am Eikel 22, 38259 Sal
 zgitter-Bad
GEO:52.05230000000000000000;10.37038000000000000000
SUMMARY:LL 8 Fr.: MTV Salzgitter - Wolfenbütteler VC II
CLASS:PUBLIC
DTSTART:20250920T110000Z
DTSTAMP:20250816T112300Z
END:VEVENT
BEGIN:VEVENT
UID:741079-2da69939ed67427dc6bf3daba21059e9
X-WR-RELCALID:741079-2da69939ed67427dc6bf3daba21059e9
ORGANIZER:Volleyball
SEQUENCE:261131243
LOCATION:Gymnasium Salzgitter-Bad (Sporthalle), Am Eikel 22, 38259 Sal
 zgitter-Bad
GEO:52.05230000000000000000;10.37038000000000000000
SUMMARY:LL 8 Fr.: MTV Salzgitter - VT Südharz
CLASS:PUBLIC
DTSTART:20251115T120000Z
DTSTAMP:20250816T112300Z
END:VEVENT
BEGIN:VEVENT
UID:741082-2da69939ed67427dc6bf3daba21059e9
X-WR-RELCALID:741082-2da69939ed67427dc6bf3daba21059e9
ORGANIZER:Volleyball
SEQUENCE:261131243
LOCATION:Gymnasium Salzgitter-Bad (Sporthalle), Am Eikel 22, 38259 Sal
 zgitter-Bad
GEO:52.05230000000000000000;10.37038000000000000000
SUMMARY:LL 8 Fr.: MTV Salzgitter - Tuspo Weende IV
CLASS:PUBLIC
DTSTART:20251115T120000Z
DTSTAMP:20250816T112300Z
END:VEVENT
BEGIN:VEVENT
UID:741141-2da69939ed67427dc6bf3daba21059e9
X-WR-RELCALID:741141-2da69939ed67427dc6bf3daba21059e9
ORGANIZER:Volleyball
SEQUENCE:261131243
LOCATION:Wiesenschule (Halle 2), Wiesenstraße, 38259 Salzgitter-Bad
GEO:52.04340340000000000000;10.37595830000000000000
SUMMARY:LL 8 Fr.: MTV Salzgitter - SG Bodensee/Nesselröden
CLASS:PUBLIC
DTSTART:20260117T120000Z
DTSTAMP:20260104T173000Z
END:VEVENT
BEGIN:VEVENT
UID:741145-2da69939ed67427dc6bf3daba21059e9
X-WR-RELCALID:741145-2da69939ed67427dc6bf3daba21059e9
ORGANIZER:Volleyball
SEQUENCE:261131243
LOCATION:Wiesenschule (Halle 2), Wiesenstraße, 38259 Salzgitter-Bad
GEO:52.04340340000000000000;10.37595830000000000000
SUMMARY:LL 8 Fr.: MTV Salzgitter - ASC 46 Göttingen II
CLASS:PUBLIC
DTSTART:20260117T120000Z
DTSTAMP:20260104T173000Z
END:VEVENT
BEGIN:VEVENT
UID:741228-2da69939ed67427dc6bf3daba21059e9
X-WR-RELCALID:741228-2da69939ed67427dc6bf3daba21059e9
ORGANIZER:Volleyball
SEQUENCE:261131243
LOCATION:Gymnasium Salzgitter-Bad (Sporthalle), Am Eikel 22, 38259 Sal
 zgitter-Bad
GEO:52.05230000000000000000;10.37038000000000000000
SUMMARY:LL 8 Fr.: MTV Salzgitter - Tuspo Weende III
CLASS:PUBLIC
DTSTART:20260307T140000Z
DTSTAMP:20250816T112400Z
END:VEVENT
BEGIN:VEVENT
UID:741223-2da69939ed67427dc6bf3daba21059e9
X-WR-RELCALID:741223-2da69939ed67427dc6bf3daba21059e9
ORGANIZER:Volleyball
SEQUENCE:261131243
LOCATION:Gymnasium Salzgitter-Bad (Sporthalle), Am Eikel 22, 38259 Sal
 zgitter-Bad
GEO:52.05230000000000000000;10.37038000000000000000
SUMMARY:LL 8 Fr.: MTV Salzgitter - SG Lenglern
CLASS:PUBLIC
DTSTART:20260307T140100Z
DTSTAMP:20260227T133000Z
END:VEVENT
END:VCALENDAR