BEGIN:VCALENDAR
VERSION:2.0
PRODID:VSD-Portal-www.volley.de
METHOD:PUBLISH
BEGIN:VEVENT
UID:741298-2da69939ed67427dc6bf3daba21059e9
X-WR-RELCALID:741298-2da69939ed67427dc6bf3daba21059e9
ORGANIZER:Volleyball
SEQUENCE:261151329
LOCATION:BBS Northeim, Sudheimerstraße, 37154 Northeim
GEO:51.69105870000000000000;9.99626580000000000000
SUMMARY:LL 8 Fr.: DJK Kolping Northeim - Wolfenbütteler VC II
CLASS:PUBLIC
DTSTART:20260425T130000Z
DTSTAMP:20250816T112400Z
END:VEVENT
END:VCALENDAR