BEGIN:VCALENDAR
VERSION:2.0
PRODID:VSD-Portal-www.volley.de
METHOD:PUBLISH
BEGIN:VEVENT
UID:741288-2da69939ed67427dc6bf3daba21059e9
X-WR-RELCALID:741288-2da69939ed67427dc6bf3daba21059e9
ORGANIZER:Volleyball
SEQUENCE:261141727
LOCATION:Sporthalle Godehardstraße, Godehardstraße, 37081 Göttingen
GEO:51.54040880000000000000;9.92289150000000000000
SUMMARY:LL 8 Fr.: SG Lenglern - ASC 46 Göttingen II
CLASS:PUBLIC
DTSTART:20260418T130000Z
DTSTAMP:20251023T130000Z
END:VEVENT
END:VCALENDAR