BEGIN:VCALENDAR
VERSION:2.0
PRODID:VSD-Portal-www.volley.de
METHOD:PUBLISH
BEGIN:VEVENT
UID:712652-2da69939ed67427dc6bf3daba21059e9
X-WR-RELCALID:712652-2da69939ed67427dc6bf3daba21059e9
ORGANIZER:Volleyball
SEQUENCE:261100020
LOCATION:Gymnasium Antonianum, Willhohstraße, 49377 Vechta
GEO:52.72494070000000000000;8.29053560000000000000
SUMMARY:RL NW Fr.: VfL Oythe II - SV Wietmarschen
CLASS:PUBLIC
DTSTART:20251004T120000Z
DTSTAMP:20250816T084300Z
END:VEVENT
BEGIN:VEVENT
UID:712690-2da69939ed67427dc6bf3daba21059e9
X-WR-RELCALID:712690-2da69939ed67427dc6bf3daba21059e9
ORGANIZER:Volleyball
SEQUENCE:261100020
LOCATION:Gymnasium Antonianum, Willhohstraße, 49377 Vechta
GEO:52.72494070000000000000;8.29053560000000000000
SUMMARY:RL NW Fr.: VfL Oythe II - GfL Hannover
CLASS:PUBLIC
DTSTART:20251018T120000Z
DTSTAMP:20250816T084300Z
END:VEVENT
BEGIN:VEVENT
UID:712750-2da69939ed67427dc6bf3daba21059e9
X-WR-RELCALID:712750-2da69939ed67427dc6bf3daba21059e9
ORGANIZER:Volleyball
SEQUENCE:261100020
LOCATION:Gymnasium Antonianum, Willhohstraße, 49377 Vechta
GEO:52.72494070000000000000;8.29053560000000000000
SUMMARY:RL NW Fr.: VfL Oythe II - Turn-Klubb zu Hannover
CLASS:PUBLIC
DTSTART:20251025T130000Z
DTSTAMP:20250816T084300Z
END:VEVENT
BEGIN:VEVENT
UID:712720-2da69939ed67427dc6bf3daba21059e9
X-WR-RELCALID:712720-2da69939ed67427dc6bf3daba21059e9
ORGANIZER:Volleyball
SEQUENCE:261100020
LOCATION:Gymnasium Antonianum, Willhohstraße, 49377 Vechta
GEO:52.72494070000000000000;8.29053560000000000000
SUMMARY:RL NW Fr.: VfL Oythe II - SC Spelle-Venhaus
CLASS:PUBLIC
DTSTART:20251101T140000Z
DTSTAMP:20250816T084300Z
END:VEVENT
BEGIN:VEVENT
UID:712765-2da69939ed67427dc6bf3daba21059e9
X-WR-RELCALID:712765-2da69939ed67427dc6bf3daba21059e9
ORGANIZER:Volleyball
SEQUENCE:261100020
LOCATION:Gymnasium Antonianum, Willhohstraße, 49377 Vechta
GEO:52.72494070000000000000;8.29053560000000000000
SUMMARY:RL NW Fr.: VfL Oythe II - SV Union Lohne
CLASS:PUBLIC
DTSTART:20251207T140000Z
DTSTAMP:20251126T164500Z
END:VEVENT
BEGIN:VEVENT
UID:712803-2da69939ed67427dc6bf3daba21059e9
X-WR-RELCALID:712803-2da69939ed67427dc6bf3daba21059e9
ORGANIZER:Volleyball
SEQUENCE:261100020
LOCATION:Gymnasium Antonianum, Willhohstraße, 49377 Vechta
GEO:52.72494070000000000000;8.29053560000000000000
SUMMARY:RL NW Fr.: VfL Oythe II - SV Cappeln
CLASS:PUBLIC
DTSTART:20260117T130000Z
DTSTAMP:20250816T084300Z
END:VEVENT
BEGIN:VEVENT
UID:712821-2da69939ed67427dc6bf3daba21059e9
X-WR-RELCALID:712821-2da69939ed67427dc6bf3daba21059e9
ORGANIZER:Volleyball
SEQUENCE:261100020
LOCATION:Gymnasium Antonianum, Willhohstraße, 49377 Vechta
GEO:52.72494070000000000000;8.29053560000000000000
SUMMARY:RL NW Fr.: VfL Oythe II - Tuspo Weende
CLASS:PUBLIC
DTSTART:20260131T130000Z
DTSTAMP:20250816T084300Z
END:VEVENT
BEGIN:VEVENT
UID:712839-2da69939ed67427dc6bf3daba21059e9
X-WR-RELCALID:712839-2da69939ed67427dc6bf3daba21059e9
ORGANIZER:Volleyball
SEQUENCE:261100020
LOCATION:Gymnasium Antonianum, Willhohstraße, 49377 Vechta
GEO:52.72494070000000000000;8.29053560000000000000
SUMMARY:RL NW Fr.: VfL Oythe II - USC Braunschweig
CLASS:PUBLIC
DTSTART:20260222T150000Z
DTSTAMP:20250816T084300Z
END:VEVENT
BEGIN:VEVENT
UID:712875-2da69939ed67427dc6bf3daba21059e9
X-WR-RELCALID:712875-2da69939ed67427dc6bf3daba21059e9
ORGANIZER:Volleyball
SEQUENCE:261100020
LOCATION:Gymnasium Antonianum, Willhohstraße, 49377 Vechta
GEO:52.72494070000000000000;8.29053560000000000000
SUMMARY:RL NW Fr.: VfL Oythe II - Oldenburger TB
CLASS:PUBLIC
DTSTART:20260328T130000Z
DTSTAMP:20250816T084300Z
END:VEVENT
END:VCALENDAR