BEGIN:VCALENDAR
VERSION:2.0
PRODID:VSD-Portal-www.volley.de
METHOD:PUBLISH
BEGIN:VEVENT
UID:712849-2da69939ed67427dc6bf3daba21059e9
X-WR-RELCALID:712849-2da69939ed67427dc6bf3daba21059e9
ORGANIZER:Volleyball
SEQUENCE:261091809
LOCATION:Sporthalle am Park, Parkstraße, 49835 Lohne
GEO:52.50003820000000000000;7.22932880000000000000
SUMMARY:RL NW Fr.: SV Union Lohne - USC Braunschweig
CLASS:PUBLIC
DTSTART:20260307T150000Z
DTSTAMP:20250816T084300Z
END:VEVENT
END:VCALENDAR